BEGIN:VCALENDAR
VERSION:2.0
PRODID:-//Trento International - ECPv6.15.20//NONSGML v1.0//EN
CALSCALE:GREGORIAN
METHOD:PUBLISH
X-WR-CALNAME:Trento International
X-ORIGINAL-URL:https://trentointernational.com
X-WR-CALDESC:Events for Trento International
REFRESH-INTERVAL;VALUE=DURATION:PT1H
X-Robots-Tag:noindex
X-PUBLISHED-TTL:PT1H
BEGIN:VTIMEZONE
TZID:Europe/Rome
BEGIN:DAYLIGHT
TZOFFSETFROM:+0100
TZOFFSETTO:+0200
TZNAME:CEST
DTSTART:20250330T010000
END:DAYLIGHT
BEGIN:STANDARD
TZOFFSETFROM:+0200
TZOFFSETTO:+0100
TZNAME:CET
DTSTART:20251026T010000
END:STANDARD
BEGIN:DAYLIGHT
TZOFFSETFROM:+0100
TZOFFSETTO:+0200
TZNAME:CEST
DTSTART:20260329T010000
END:DAYLIGHT
BEGIN:STANDARD
TZOFFSETFROM:+0200
TZOFFSETTO:+0100
TZNAME:CET
DTSTART:20261025T010000
END:STANDARD
BEGIN:DAYLIGHT
TZOFFSETFROM:+0100
TZOFFSETTO:+0200
TZNAME:CEST
DTSTART:20270328T010000
END:DAYLIGHT
BEGIN:STANDARD
TZOFFSETFROM:+0200
TZOFFSETTO:+0100
TZNAME:CET
DTSTART:20271031T010000
END:STANDARD
END:VTIMEZONE
BEGIN:VEVENT
DTSTART;TZID=Europe/Rome:20260904T180000
DTEND;TZID=Europe/Rome:20260904T235900
DTSTAMP:20260418T064639
CREATED:20260403T082812Z
LAST-MODIFIED:20260403T082812Z
UID:4424-1788544800-1788566340@trentointernational.com
SUMMARY:Trento Live Fest 2026
DESCRIPTION:Major live music festival featuring top Italian artists.
URL:https://trentointernational.com/event/trento-live-fest-2026-4/
LOCATION:Trentino Music Arena\, Via di S. Vincenzo\, Trento\, Trentino\, 38123\, Italy
CATEGORIES:Music; Dance & Party
END:VEVENT
BEGIN:VEVENT
DTSTART;TZID=Europe/Rome:20260905T180000
DTEND;TZID=Europe/Rome:20260905T235900
DTSTAMP:20260418T064639
CREATED:20260403T082812Z
LAST-MODIFIED:20260403T082812Z
UID:4425-1788631200-1788652740@trentointernational.com
SUMMARY:Trento Live Fest 2026
DESCRIPTION:Major live music festival featuring top Italian artists.
URL:https://trentointernational.com/event/trento-live-fest-2026-5/
LOCATION:Trentino Music Arena\, Via di S. Vincenzo\, Trento\, Trentino\, 38123\, Italy
CATEGORIES:Music; Dance & Party
END:VEVENT
BEGIN:VEVENT
DTSTART;TZID=Europe/Rome:20260906T180000
DTEND;TZID=Europe/Rome:20260906T235900
DTSTAMP:20260418T064639
CREATED:20260403T082812Z
LAST-MODIFIED:20260403T082812Z
UID:4426-1788717600-1788739140@trentointernational.com
SUMMARY:Trento Live Fest 2026
DESCRIPTION:Major live music festival featuring top Italian artists.
URL:https://trentointernational.com/event/trento-live-fest-2026-6/
LOCATION:Trentino Music Arena\, Via di S. Vincenzo\, Trento\, Trentino\, 38123\, Italy
CATEGORIES:Music; Dance & Party
END:VEVENT
BEGIN:VEVENT
DTSTART;TZID=Europe/Rome:20260910T180000
DTEND;TZID=Europe/Rome:20260910T235900
DTSTAMP:20260418T064639
CREATED:20260403T082857Z
LAST-MODIFIED:20260403T082857Z
UID:4441-1789063200-1789084740@trentointernational.com
SUMMARY:Poplar Festival 2026
DESCRIPTION:Multi-day music festival featuring international and Italian artists.
URL:https://trentointernational.com/event/poplar-festival-2026/
CATEGORIES:Music; Dance & Party
END:VEVENT
BEGIN:VEVENT
DTSTART;TZID=Europe/Rome:20260911T180000
DTEND;TZID=Europe/Rome:20260911T235900
DTSTAMP:20260418T064639
CREATED:20260403T082911Z
LAST-MODIFIED:20260403T082911Z
UID:4442-1789149600-1789171140@trentointernational.com
SUMMARY:Poplar Festival 2026
DESCRIPTION:Multi-day music festival featuring international and Italian artists.
URL:https://trentointernational.com/event/poplar-festival-2026-2/
CATEGORIES:Music; Dance & Party
END:VEVENT
BEGIN:VEVENT
DTSTART;TZID=Europe/Rome:20260912T180000
DTEND;TZID=Europe/Rome:20260912T235900
DTSTAMP:20260418T064639
CREATED:20260403T082912Z
LAST-MODIFIED:20260403T082912Z
UID:4443-1789236000-1789257540@trentointernational.com
SUMMARY:Poplar Festival 2026
DESCRIPTION:Multi-day music festival featuring international and Italian artists.
URL:https://trentointernational.com/event/poplar-festival-2026-3/
CATEGORIES:Music; Dance & Party
END:VEVENT
BEGIN:VEVENT
DTSTART;TZID=Europe/Rome:20260913T180000
DTEND;TZID=Europe/Rome:20260913T235900
DTSTAMP:20260418T064639
CREATED:20260403T082912Z
LAST-MODIFIED:20260403T082912Z
UID:4444-1789322400-1789343940@trentointernational.com
SUMMARY:Poplar Festival 2026
DESCRIPTION:Multi-day music festival featuring international and Italian artists.
URL:https://trentointernational.com/event/poplar-festival-2026-4/
CATEGORIES:Music; Dance & Party
END:VEVENT
END:VCALENDAR