BEGIN:VCALENDAR
VERSION:2.0
PRODID:-//Trento International - ECPv6.15.20//NONSGML v1.0//EN
CALSCALE:GREGORIAN
METHOD:PUBLISH
X-WR-CALNAME:Trento International
X-ORIGINAL-URL:https://trentointernational.com
X-WR-CALDESC:Events for Trento International
REFRESH-INTERVAL;VALUE=DURATION:PT1H
X-Robots-Tag:noindex
X-PUBLISHED-TTL:PT1H
BEGIN:VTIMEZONE
TZID:Europe/Rome
BEGIN:DAYLIGHT
TZOFFSETFROM:+0100
TZOFFSETTO:+0200
TZNAME:CEST
DTSTART:20250330T010000
END:DAYLIGHT
BEGIN:STANDARD
TZOFFSETFROM:+0200
TZOFFSETTO:+0100
TZNAME:CET
DTSTART:20251026T010000
END:STANDARD
BEGIN:DAYLIGHT
TZOFFSETFROM:+0100
TZOFFSETTO:+0200
TZNAME:CEST
DTSTART:20260329T010000
END:DAYLIGHT
BEGIN:STANDARD
TZOFFSETFROM:+0200
TZOFFSETTO:+0100
TZNAME:CET
DTSTART:20261025T010000
END:STANDARD
BEGIN:DAYLIGHT
TZOFFSETFROM:+0100
TZOFFSETTO:+0200
TZNAME:CEST
DTSTART:20270328T010000
END:DAYLIGHT
BEGIN:STANDARD
TZOFFSETFROM:+0200
TZOFFSETTO:+0100
TZNAME:CET
DTSTART:20271031T010000
END:STANDARD
END:VTIMEZONE
BEGIN:VEVENT
DTSTART;TZID=Europe/Rome:20260828T180000
DTEND;TZID=Europe/Rome:20260828T235900
DTSTAMP:20260416T105228
CREATED:20260403T082757Z
LAST-MODIFIED:20260403T082757Z
UID:4421-1787940000-1787961540@trentointernational.com
SUMMARY:Trento Live Fest 2026
DESCRIPTION:Major live music festival featuring artists like Gemitaiz\, Madame\, Emma\, and Negramaro.
URL:https://trentointernational.com/event/trento-live-fest-2026/
LOCATION:Trentino Music Arena\, Via di S. Vincenzo\, Trento\, Trentino\, 38123\, Italy
CATEGORIES:Music; Dance & Party
END:VEVENT
BEGIN:VEVENT
DTSTART;TZID=Europe/Rome:20260829T180000
DTEND;TZID=Europe/Rome:20260829T235900
DTSTAMP:20260416T105228
CREATED:20260403T082811Z
LAST-MODIFIED:20260403T082811Z
UID:4422-1788026400-1788047940@trentointernational.com
SUMMARY:Trento Live Fest 2026
DESCRIPTION:Major live music festival featuring top Italian artists.
URL:https://trentointernational.com/event/trento-live-fest-2026-2/
LOCATION:Trentino Music Arena\, Via di S. Vincenzo\, Trento\, Trentino\, 38123\, Italy
CATEGORIES:Music; Dance & Party
END:VEVENT
BEGIN:VEVENT
DTSTART;TZID=Europe/Rome:20260830T180000
DTEND;TZID=Europe/Rome:20260830T235900
DTSTAMP:20260416T105228
CREATED:20260403T082812Z
LAST-MODIFIED:20260403T082812Z
UID:4423-1788112800-1788134340@trentointernational.com
SUMMARY:Trento Live Fest 2026
DESCRIPTION:Major live music festival featuring top Italian artists.
URL:https://trentointernational.com/event/trento-live-fest-2026-3/
LOCATION:Trentino Music Arena\, Via di S. Vincenzo\, Trento\, Trentino\, 38123\, Italy
CATEGORIES:Music; Dance & Party
END:VEVENT
END:VCALENDAR