BEGIN:VCALENDAR
VERSION:2.0
PRODID:-//Trento International - ECPv6.15.20//NONSGML v1.0//EN
CALSCALE:GREGORIAN
METHOD:PUBLISH
X-ORIGINAL-URL:https://trentointernational.com
X-WR-CALDESC:Events for Trento International
REFRESH-INTERVAL;VALUE=DURATION:PT1H
X-Robots-Tag:noindex
X-PUBLISHED-TTL:PT1H
BEGIN:VTIMEZONE
TZID:Europe/Rome
BEGIN:DAYLIGHT
TZOFFSETFROM:+0100
TZOFFSETTO:+0200
TZNAME:CEST
DTSTART:20250330T010000
END:DAYLIGHT
BEGIN:STANDARD
TZOFFSETFROM:+0200
TZOFFSETTO:+0100
TZNAME:CET
DTSTART:20251026T010000
END:STANDARD
BEGIN:DAYLIGHT
TZOFFSETFROM:+0100
TZOFFSETTO:+0200
TZNAME:CEST
DTSTART:20260329T010000
END:DAYLIGHT
BEGIN:STANDARD
TZOFFSETFROM:+0200
TZOFFSETTO:+0100
TZNAME:CET
DTSTART:20261025T010000
END:STANDARD
BEGIN:DAYLIGHT
TZOFFSETFROM:+0100
TZOFFSETTO:+0200
TZNAME:CEST
DTSTART:20270328T010000
END:DAYLIGHT
BEGIN:STANDARD
TZOFFSETFROM:+0200
TZOFFSETTO:+0100
TZNAME:CET
DTSTART:20271031T010000
END:STANDARD
END:VTIMEZONE
BEGIN:VEVENT
DTSTART;TZID=Europe/Rome:20260201T180000
DTEND;TZID=Europe/Rome:20260201T210000
DTSTAMP:20260417T161602
CREATED:20260128T101907Z
LAST-MODIFIED:20260128T101907Z
UID:4087-1769968800-1769979600@trentointernational.com
SUMMARY:Conversations Between Inhabitants of the Islands – Live Sound Dialogue
DESCRIPTION:A live music performance from the composition cycle “Conversations Between Inhabitants of the Islands”\, combining written music and free improvisation guided by gesture and deep listening. Reserved for members.
URL:https://trentointernational.com/event/conversations-between-inhabitants-of-the-islands-live-sound-dialogue/
LOCATION:La Foresta\, Piazzale Orsi\, 15-16\, Rovereto\, 38068\, Italy
CATEGORIES:Music; Dance & Party
END:VEVENT
BEGIN:VEVENT
DTSTART;TZID=Europe/Rome:20260203T180000
DTEND;TZID=Europe/Rome:20260203T200000
DTSTAMP:20260417T161602
CREATED:20260128T101940Z
LAST-MODIFIED:20260128T101940Z
UID:4102-1770141600-1770148800@trentointernational.com
SUMMARY:Food Logistics\, Distribution and Price
DESCRIPTION:Workshop exploring how food circulates in the agro-industrial system\, who pays the costs and who profits.
URL:https://trentointernational.com/event/food-logistics-distribution-and-price/
CATEGORIES:Education
END:VEVENT
BEGIN:VEVENT
DTSTART;TZID=Europe/Rome:20260203T200000
DTEND;TZID=Europe/Rome:20260203T230000
DTSTAMP:20260417T161602
CREATED:20260128T102141Z
LAST-MODIFIED:20260128T102141Z
UID:4111-1770148800-1770159600@trentointernational.com
SUMMARY:Trans People and Sport: Current Situation and New Challenges
DESCRIPTION:Public discussion on trans people and sports\, inclusion\, equity and current challenges.
URL:https://trentointernational.com/event/trans-people-and-sport-current-situation-and-new-challenges/
LOCATION:Fondazione Caritro\, Via Calepina 1\, Trento\, 38122\, Italy
CATEGORIES:Education
END:VEVENT
BEGIN:VEVENT
DTSTART;TZID=Europe/Rome:20260205T170000
DTEND;TZID=Europe/Rome:20260205T190000
DTSTAMP:20260417T161602
CREATED:20260128T101907Z
LAST-MODIFIED:20260128T101907Z
UID:4088-1770310800-1770318000@trentointernational.com
SUMMARY:Museion Ink – Creative Writing Session
DESCRIPTION:A creative writing session inside the exhibition “Nicola L. – I Am The Last Woman Object”. Writing as a space for freedom\, gentle activism and shared identities. Session held in Italian.
URL:https://trentointernational.com/event/museion-ink-creative-writing-session/
CATEGORIES:Workshop
END:VEVENT
BEGIN:VEVENT
DTSTART;TZID=Europe/Rome:20260205T183000
DTEND;TZID=Europe/Rome:20260205T213000
DTSTAMP:20260417T161602
CREATED:20260201T112003Z
LAST-MODIFIED:20260201T112003Z
UID:4145-1770316200-1770327000@trentointernational.com
SUMMARY:Mani in Pasta – Gnocchi Edition
DESCRIPTION:Hands‑on communal cooking workshop focused on handmade gnocchi (potato and pumpkin). Participants cook\, eat together\, and share techniques in a convivial setting.
URL:https://trentointernational.com/event/mani-in-pasta-gnocchi-edition/
CATEGORIES:Food & Drinks
END:VEVENT
BEGIN:VEVENT
DTSTART;TZID=Europe/Rome:20260205T190000
DTEND;TZID=Europe/Rome:20260205T220000
DTSTAMP:20260417T161602
CREATED:20260201T112019Z
LAST-MODIFIED:20260201T112019Z
UID:4155-1770318000-1770328800@trentointernational.com
SUMMARY:Michele Amadori – Live
DESCRIPTION:Live music evening with Michele Amadori\, blending rock’n’roll and unexpected songwriting in an intimate bar setting.
URL:https://trentointernational.com/event/michele-amadori-live/
CATEGORIES:Music; Dance & Party
END:VEVENT
BEGIN:VEVENT
DTSTART;TZID=Europe/Rome:20260205T200000
DTEND;TZID=Europe/Rome:20260205T230000
DTSTAMP:20260417T161602
CREATED:20260201T112004Z
LAST-MODIFIED:20260201T112004Z
UID:4150-1770321600-1770332400@trentointernational.com
SUMMARY:The Wall – Dance Tribute
DESCRIPTION:Dance‑theatre performance inspired by Pink Floyd’s The Wall\, combining choreography\, music\, video and political protest.
URL:https://trentointernational.com/event/the-wall-dance-tribute/
CATEGORIES:Art & Culture
END:VEVENT
BEGIN:VEVENT
DTSTART;TZID=Europe/Rome:20260206T180000
DTEND;TZID=Europe/Rome:20260206T223000
DTSTAMP:20260417T161602
CREATED:20260128T101911Z
LAST-MODIFIED:20260128T101911Z
UID:4093-1770400800-1770417000@trentointernational.com
SUMMARY:Swappers – Clothing & Book Swap Party
DESCRIPTION:A cozy swap party for clothes and books with DJ set and a talk on sustainable fashion. Bring up to 5 clean winter items.
URL:https://trentointernational.com/event/swappers-clothing-book-swap-party/
LOCATION:Cantiere26\, via Caproni Maini 26/E\, Arco\, Italy
CATEGORIES:Sustainability
END:VEVENT
BEGIN:VEVENT
DTSTART;TZID=Europe/Rome:20260206T193000
DTEND;TZID=Europe/Rome:20260206T223000
DTSTAMP:20260417T161602
CREATED:20260128T101925Z
LAST-MODIFIED:20260128T101925Z
UID:4099-1770406200-1770417000@trentointernational.com
SUMMARY:Bob Marley Birthday Reggae Night
DESCRIPTION:Reggae night celebrating the 81st anniversary of Bob Marley with DJ Yardie Groove and Menni Rebelrootz.
URL:https://trentointernational.com/event/bob-marley-birthday-reggae-night/
CATEGORIES:Music; Dance & Party
END:VEVENT
BEGIN:VEVENT
DTSTART;TZID=Europe/Rome:20260206T200000
DTEND;TZID=Europe/Rome:20260206T230000
DTSTAMP:20260417T161603
CREATED:20260128T101940Z
LAST-MODIFIED:20260128T101940Z
UID:4104-1770408000-1770418800@trentointernational.com
SUMMARY:Metadietro
DESCRIPTION:Contemporary theatre performance exploring voice\, space and body through experimental language.
URL:https://trentointernational.com/event/metadietro/
CATEGORIES:Theatre
END:VEVENT
BEGIN:VEVENT
DTSTART;TZID=Europe/Rome:20260206T200000
DTEND;TZID=Europe/Rome:20260206T230000
DTSTAMP:20260417T161603
CREATED:20260201T112004Z
LAST-MODIFIED:20260201T112004Z
UID:4151-1770408000-1770418800@trentointernational.com
SUMMARY:The Wall – Dance Tribute
DESCRIPTION:Second performance of the Pink Floyd‑inspired dance and theatre production exploring freedom\, anger and resistance.
URL:https://trentointernational.com/event/the-wall-dance-tribute-2/
CATEGORIES:Art & Culture
END:VEVENT
BEGIN:VEVENT
DTSTART;TZID=Europe/Rome:20260206T210000
DTEND;TZID=Europe/Rome:20260206T210000
DTSTAMP:20260417T161603
CREATED:20260128T101925Z
LAST-MODIFIED:20260128T101925Z
UID:4097-1770411600-1770411600@trentointernational.com
SUMMARY:Neuruni Social Dub #3 – Bob Marley Celebration
DESCRIPTION:Reggae and dub night celebrating Bob Marley with Healhertz Soundsystem\, Radiofontani\, AlfReedom\, Paolo Outta and Delta Hi Fi. Membership required.
URL:https://trentointernational.com/event/neuruni-social-dub-3-bob-marley-celebration/
CATEGORIES:Music; Dance & Party
END:VEVENT
BEGIN:VEVENT
DTSTART;TZID=Europe/Rome:20260207T150000
DTEND;TZID=Europe/Rome:20260207T210000
DTSTAMP:20260417T161603
CREATED:20260201T115132Z
LAST-MODIFIED:20260201T115132Z
UID:4158-1770476400-1770498000@trentointernational.com
SUMMARY:Social Carnevale
DESCRIPTION:Dear friends\, we revelers\nWe’re all waiting for you\nAt the San Pio park\nFor a bike ride and some fun!\nCarnival has arrived!\nWhat are we doing? We’ve thought about it… \nWe’re waiting for you at Spiox for our Social Carnival!\nSee you on Friday evening\, the 6th\, for the screening of the documentary film “Scampia Felix” about the birth of the Social Carnival in Scampia (northern suburbs of Naples) by @gridas.81\, an important cultural reference point in the neighborhood. What does it have to do with the Murga? We’ll talk about it in Via Giusti! \nAnd keep Saturday free\, we have lots to do!!!! With the friends of @la_soffitta_di_trento and @atu_unitn 🥁🤓🔥🎉🎉🎈🤸‍♂️
URL:https://trentointernational.com/event/social-carnevale/
LOCATION:san pio X
END:VEVENT
BEGIN:VEVENT
DTSTART;TZID=Europe/Rome:20260207T180000
DTEND;TZID=Europe/Rome:20260207T210000
DTSTAMP:20260417T161603
CREATED:20260201T112004Z
LAST-MODIFIED:20260201T112004Z
UID:4153-1770487200-1770498000@trentointernational.com
SUMMARY:Open Jam & Pizza Night
DESCRIPTION:Relaxed social evening during exam session with pizza\, music\, open jam and community hangout.
URL:https://trentointernational.com/event/open-jam-pizza-night/
LOCATION:Centro Sociale Bruno\, Lungadige San Nicolò\, 4\, Trento\, Italy
CATEGORIES:Music; Dance & Party
END:VEVENT
BEGIN:VEVENT
DTSTART;TZID=Europe/Rome:20260207T200000
DTEND;TZID=Europe/Rome:20260207T230000
DTSTAMP:20260417T161603
CREATED:20260128T101940Z
LAST-MODIFIED:20260128T101940Z
UID:4105-1770494400-1770505200@trentointernational.com
SUMMARY:Metadietro
DESCRIPTION:Second night of the contemporary theatre performance Metadietro.
URL:https://trentointernational.com/event/metadietro-2/
CATEGORIES:Theatre
END:VEVENT
BEGIN:VEVENT
DTSTART;TZID=Europe/Rome:20260207T200000
DTEND;TZID=Europe/Rome:20260207T230000
DTSTAMP:20260417T161603
CREATED:20260201T112004Z
LAST-MODIFIED:20260201T112004Z
UID:4152-1770494400-1770505200@trentointernational.com
SUMMARY:The Wall – Dance Tribute
DESCRIPTION:Final performance of the trilogy‑style dance tribute inspired by The Wall.
URL:https://trentointernational.com/event/the-wall-dance-tribute-3/
CATEGORIES:Art & Culture
END:VEVENT
BEGIN:VEVENT
DTSTART;TZID=Europe/Rome:20260207T210000
DTEND;TZID=Europe/Rome:20260208T000000
DTSTAMP:20260417T161603
CREATED:20260201T112003Z
LAST-MODIFIED:20260201T112003Z
UID:4148-1770498000-1770508800@trentointernational.com
SUMMARY:Tribe Tekno – Rave Vault VI
DESCRIPTION:Underground techno night powered by Fiction Sound System with international and local artists\, visuals\, decor and market area.
URL:https://trentointernational.com/event/tribe-tekno-rave-vault-vi/
CATEGORIES:Dance & Party
END:VEVENT
BEGIN:VEVENT
DTSTART;TZID=Europe/Rome:20260208T140000
DTEND;TZID=Europe/Rome:20260208T170000
DTSTAMP:20260417T161603
CREATED:20260128T102140Z
LAST-MODIFIED:20260128T102140Z
UID:4109-1770559200-1770570000@trentointernational.com
SUMMARY:Carnevale Animale
DESCRIPTION:Outdoor carnival party with music\, food and Radiofontani Sound System.
URL:https://trentointernational.com/event/carnevale-animale/
CATEGORIES:Dance & Party
END:VEVENT
BEGIN:VEVENT
DTSTART;TZID=Europe/Rome:20260208T180000
DTEND;TZID=Europe/Rome:20260208T200000
DTSTAMP:20260417T161603
CREATED:20260128T102340Z
LAST-MODIFIED:20260128T102340Z
UID:4113-1770573600-1770580800@trentointernational.com
SUMMARY:La Strana Coppia
DESCRIPTION:
URL:https://trentointernational.com/event/la-strana-coppia/
LOCATION:HarpoLab\, Piazza Garzetti 24\, Trento\, Italy
CATEGORIES:Film
END:VEVENT
BEGIN:VEVENT
DTSTART;TZID=Europe/Rome:20260208T204500
DTEND;TZID=Europe/Rome:20260208T224500
DTSTAMP:20260417T161603
CREATED:20260128T102340Z
LAST-MODIFIED:20260128T102340Z
UID:4114-1770583500-1770590700@trentointernational.com
SUMMARY:La Strana Coppia (2nd screening)
DESCRIPTION:
URL:https://trentointernational.com/event/la-strana-coppia-2nd-screening/
LOCATION:HarpoLab\, Piazza Garzetti 24\, Trento\, Italy
CATEGORIES:Film
END:VEVENT
BEGIN:VEVENT
DTSTART;VALUE=DATE:20260209
DTEND;VALUE=DATE:20260211
DTSTAMP:20260417T161603
CREATED:20260128T102340Z
LAST-MODIFIED:20260128T102340Z
UID:4115-1770609600-1770695999@trentointernational.com
SUMMARY:Unagi / L’anguilla
DESCRIPTION:
URL:https://trentointernational.com/event/unagi-languilla/
LOCATION:HarpoLab\, Piazza Garzetti 24\, Trento\, Italy
CATEGORIES:Film
END:VEVENT
BEGIN:VEVENT
DTSTART;TZID=Europe/Rome:20260209T180000
DTEND;TZID=Europe/Rome:20260209T200000
DTSTAMP:20260417T161603
CREATED:20260128T102341Z
LAST-MODIFIED:20260128T102341Z
UID:4116-1770660000-1770667200@trentointernational.com
SUMMARY:Pellicola e camera oscura
DESCRIPTION:
URL:https://trentointernational.com/event/pellicola-e-camera-oscura/
LOCATION:HarpoLab\, Piazza Garzetti 24\, Trento\, Italy
CATEGORIES:Film
END:VEVENT
BEGIN:VEVENT
DTSTART;TZID=Europe/Rome:20260209T204500
DTEND;TZID=Europe/Rome:20260209T224500
DTSTAMP:20260417T161603
CREATED:20260128T102540Z
LAST-MODIFIED:20260128T102540Z
UID:4117-1770669900-1770677100@trentointernational.com
SUMMARY:Pellicola e camera oscura (2nd screening)
DESCRIPTION:
URL:https://trentointernational.com/event/pellicola-e-camera-oscura-2nd-screening/
LOCATION:HarpoLab\, Piazza Garzetti 24\, Trento\, Italy
CATEGORIES:Film
END:VEVENT
BEGIN:VEVENT
DTSTART;VALUE=DATE:20260210
DTEND;VALUE=DATE:20260212
DTSTAMP:20260417T161603
CREATED:20260128T102540Z
LAST-MODIFIED:20260128T102540Z
UID:4120-1770696000-1770782399@trentointernational.com
SUMMARY:Fotografia digitale base
DESCRIPTION:
URL:https://trentointernational.com/event/fotografia-digitale-base/
LOCATION:HarpoLab\, Piazza Garzetti 24\, Trento\, Italy
CATEGORIES:Film
END:VEVENT
BEGIN:VEVENT
DTSTART;VALUE=DATE:20260210
DTEND;VALUE=DATE:20260212
DTSTAMP:20260417T161603
CREATED:20260128T102540Z
LAST-MODIFIED:20260128T102540Z
UID:4121-1770696000-1770782399@trentointernational.com
SUMMARY:Il processo condiviso: gruppo di scrittura
DESCRIPTION:
URL:https://trentointernational.com/event/il-processo-condiviso-gruppo-di-scrittura/
LOCATION:HarpoLab\, Piazza Garzetti 24\, Trento\, Italy
CATEGORIES:Film
END:VEVENT
BEGIN:VEVENT
DTSTART;VALUE=DATE:20260210
DTEND;VALUE=DATE:20260212
DTSTAMP:20260417T161603
CREATED:20260128T102540Z
LAST-MODIFIED:20260128T102540Z
UID:4118-1770696000-1770782399@trentointernational.com
SUMMARY:Saturday Night Fever / La febbre del sabato…
DESCRIPTION:
URL:https://trentointernational.com/event/saturday-night-fever-la-febbre-del-sabato/
LOCATION:HarpoLab\, Piazza Garzetti 24\, Trento\, Italy
CATEGORIES:Film
END:VEVENT
BEGIN:VEVENT
DTSTART;VALUE=DATE:20260210
DTEND;VALUE=DATE:20260212
DTSTAMP:20260417T161603
CREATED:20260128T102540Z
LAST-MODIFIED:20260128T102540Z
UID:4119-1770696000-1770782399@trentointernational.com
SUMMARY:Montaggio video base
DESCRIPTION:
URL:https://trentointernational.com/event/montaggio-video-base/
LOCATION:HarpoLab\, Piazza Garzetti 24\, Trento\, Italy
CATEGORIES:Film
END:VEVENT
BEGIN:VEVENT
DTSTART;TZID=Europe/Rome:20260210T180000
DTEND;TZID=Europe/Rome:20260210T200000
DTSTAMP:20260417T161603
CREATED:20260128T101940Z
LAST-MODIFIED:20260128T101940Z
UID:4103-1770746400-1770753600@trentointernational.com
SUMMARY:Food Consumption and Alternative Networks
DESCRIPTION:Collective discussion on processed food consumption and alternative food networks.
URL:https://trentointernational.com/event/food-consumption-and-alternative-networks/
CATEGORIES:Education
END:VEVENT
BEGIN:VEVENT
DTSTART;TZID=Europe/Rome:20260210T180000
DTEND;TZID=Europe/Rome:20260210T200000
DTSTAMP:20260417T161603
CREATED:20260128T102740Z
LAST-MODIFIED:20260128T102740Z
UID:4122-1770746400-1770753600@trentointernational.com
SUMMARY:Lettura creativa
DESCRIPTION:
URL:https://trentointernational.com/event/lettura-creativa/
LOCATION:HarpoLab\, Piazza Garzetti 24\, Trento\, Italy
CATEGORIES:Film
END:VEVENT
BEGIN:VEVENT
DTSTART;VALUE=DATE:20260211
DTEND;VALUE=DATE:20260213
DTSTAMP:20260417T161603
CREATED:20260128T102740Z
LAST-MODIFIED:20260128T102740Z
UID:4123-1770782400-1770868799@trentointernational.com
SUMMARY:Maker Tuesday
DESCRIPTION:
URL:https://trentointernational.com/event/maker-tuesday-2/
LOCATION:HarpoLab\, Piazza Garzetti 24\, Trento\, Italy
CATEGORIES:Film
END:VEVENT
END:VCALENDAR