BEGIN:VCALENDAR
VERSION:2.0
PRODID:-//Trento International - ECPv6.15.20//NONSGML v1.0//EN
CALSCALE:GREGORIAN
METHOD:PUBLISH
X-ORIGINAL-URL:https://trentointernational.com
X-WR-CALDESC:Events for Trento International
REFRESH-INTERVAL;VALUE=DURATION:PT1H
X-Robots-Tag:noindex
X-PUBLISHED-TTL:PT1H
BEGIN:VTIMEZONE
TZID:Europe/Rome
BEGIN:DAYLIGHT
TZOFFSETFROM:+0100
TZOFFSETTO:+0200
TZNAME:CEST
DTSTART:20250330T010000
END:DAYLIGHT
BEGIN:STANDARD
TZOFFSETFROM:+0200
TZOFFSETTO:+0100
TZNAME:CET
DTSTART:20251026T010000
END:STANDARD
BEGIN:DAYLIGHT
TZOFFSETFROM:+0100
TZOFFSETTO:+0200
TZNAME:CEST
DTSTART:20260329T010000
END:DAYLIGHT
BEGIN:STANDARD
TZOFFSETFROM:+0200
TZOFFSETTO:+0100
TZNAME:CET
DTSTART:20261025T010000
END:STANDARD
BEGIN:DAYLIGHT
TZOFFSETFROM:+0100
TZOFFSETTO:+0200
TZNAME:CEST
DTSTART:20270328T010000
END:DAYLIGHT
BEGIN:STANDARD
TZOFFSETFROM:+0200
TZOFFSETTO:+0100
TZNAME:CET
DTSTART:20271031T010000
END:STANDARD
END:VTIMEZONE
BEGIN:VEVENT
DTSTART;TZID=Europe/Rome:20260331T210000
DTEND;TZID=Europe/Rome:20260401T000000
DTSTAMP:20260423T050541
CREATED:20260301T161827Z
LAST-MODIFIED:20260301T161827Z
UID:4372-1774990800-1775001600@trentointernational.com
SUMMARY:Us / Noi
DESCRIPTION:
URL:https://trentointernational.com/event/us-noi/
LOCATION:HarpoLab\, Piazza Garzetti 24\, Trento\, Italy
CATEGORIES:Film
END:VEVENT
BEGIN:VEVENT
DTSTART;TZID=Europe/Rome:20260401T183000
DTEND;TZID=Europe/Rome:20260401T210000
DTSTAMP:20260423T050541
CREATED:20260403T082743Z
LAST-MODIFIED:20260403T082743Z
UID:4414-1775068200-1775077200@trentointernational.com
SUMMARY:Garima Documentary Screening
DESCRIPTION:Documentary about Nepal with discussion led by the directors.
URL:https://trentointernational.com/event/garima-documentary-screening/
CATEGORIES:Film
END:VEVENT
BEGIN:VEVENT
DTSTART;TZID=Europe/Rome:20260402T160000
DTEND;TZID=Europe/Rome:20260402T190000
DTSTAMP:20260423T050541
CREATED:20260403T082826Z
LAST-MODIFIED:20260403T082826Z
UID:4427-1775145600-1775156400@trentointernational.com
SUMMARY:Children’s Theatre Workshop: When the Forest Walked
DESCRIPTION:Theatre workshop for children exploring nature\, storytelling\, and creativity.
URL:https://trentointernational.com/event/childrens-theatre-workshop-when-the-forest-walked/
CATEGORIES:Education
END:VEVENT
BEGIN:VEVENT
DTSTART;TZID=Europe/Rome:20260402T200000
DTEND;TZID=Europe/Rome:20260402T230000
DTSTAMP:20260423T050541
CREATED:20260403T132847Z
LAST-MODIFIED:20260403T132847Z
UID:4478-1775160000-1775170800@trentointernational.com
SUMMARY:Ludimus Board Game Night
DESCRIPTION:Social board game evening organized by Ludimus.
URL:https://trentointernational.com/event/ludimus-board-game-night-6/
CATEGORIES:Games
END:VEVENT
BEGIN:VEVENT
DTSTART;TZID=Europe/Rome:20260402T203000
DTEND;TZID=Europe/Rome:20260403T000000
DTSTAMP:20260423T050541
CREATED:20260403T082756Z
LAST-MODIFIED:20260403T082756Z
UID:4417-1775161800-1775174400@trentointernational.com
SUMMARY:MEETING POINT QUINTET Live
DESCRIPTION:Experimental jazz performance blending composition and improvisation.
URL:https://trentointernational.com/event/meeting-point-quintet-live/
CATEGORIES:Music; Dance & Party
END:VEVENT
BEGIN:VEVENT
DTSTART;TZID=Europe/Rome:20260403T180000
DTEND;TZID=Europe/Rome:20260403T210000
DTSTAMP:20260423T050541
CREATED:20260403T133836Z
LAST-MODIFIED:20260403T133836Z
UID:4516-1775239200-1775250000@trentointernational.com
SUMMARY:Co-Working Session
DESCRIPTION:Open co-working session for shared productivity.
URL:https://trentointernational.com/event/co-working-session/
CATEGORIES:Networking
END:VEVENT
BEGIN:VEVENT
DTSTART;TZID=Europe/Rome:20260404T093000
DTEND;TZID=Europe/Rome:20260404T130000
DTSTAMP:20260423T050541
CREATED:20260403T132934Z
LAST-MODIFIED:20260403T132934Z
UID:4499-1775295000-1775307600@trentointernational.com
SUMMARY:Mercato della Terra
DESCRIPTION:Farmers market with local producers\, sustainable food\, and artisan goods.
URL:https://trentointernational.com/event/mercato-della-terra/
CATEGORIES:Shopping
END:VEVENT
BEGIN:VEVENT
DTSTART;TZID=Europe/Rome:20260404T120000
DTEND;TZID=Europe/Rome:20260404T235900
DTSTAMP:20260423T050541
CREATED:20260403T082827Z
LAST-MODIFIED:20260403T082827Z
UID:4429-1775304000-1775347140@trentointernational.com
SUMMARY:Just Be Party
DESCRIPTION:Day-to-night party with live sets from international and local DJs.
URL:https://trentointernational.com/event/just-be-party/
CATEGORIES:Music; Dance & Party
END:VEVENT
BEGIN:VEVENT
DTSTART;TZID=Europe/Rome:20260404T180000
DTEND;TZID=Europe/Rome:20260404T210000
DTSTAMP:20260423T050541
CREATED:20260403T132847Z
LAST-MODIFIED:20260403T132847Z
UID:4476-1775325600-1775336400@trentointernational.com
SUMMARY:Stand-Up Comedy Night
DESCRIPTION:Amateur stand-up comedy night featuring local performers.
URL:https://trentointernational.com/event/stand-up-comedy-night-2/
CATEGORIES:Comedy
END:VEVENT
BEGIN:VEVENT
DTSTART;TZID=Europe/Rome:20260404T200000
DTEND;TZID=Europe/Rome:20260404T230000
DTSTAMP:20260423T050541
CREATED:20260403T082740Z
LAST-MODIFIED:20260403T082740Z
UID:4409-1775332800-1775343600@trentointernational.com
SUMMARY:Stand-Up Comedy Night
DESCRIPTION:Four amateur comedians perform in a lively stand-up comedy night.
URL:https://trentointernational.com/event/stand-up-comedy-night/
CATEGORIES:Comedy
END:VEVENT
BEGIN:VEVENT
DTSTART;TZID=Europe/Rome:20260404T210000
DTEND;TZID=Europe/Rome:20260405T000000
DTSTAMP:20260423T050541
CREATED:20260403T082912Z
LAST-MODIFIED:20260403T082912Z
UID:4446-1775336400-1775347200@trentointernational.com
SUMMARY:LAME + IONICO IONICO + QUADRATICS LIVE
DESCRIPTION:Hardcore punk\, no wave\, and rock live concert night.
URL:https://trentointernational.com/event/lame-ionico-ionico-quadratics-live/
LOCATION:Centro Sociale Bruno\, Lungadige San Nicolò\, 4\, Trento\, Italy
CATEGORIES:Music; Dance & Party
END:VEVENT
BEGIN:VEVENT
DTSTART;TZID=Europe/Rome:20260404T210000
DTEND;TZID=Europe/Rome:20260405T000000
DTSTAMP:20260423T050541
CREATED:20260403T132848Z
LAST-MODIFIED:20260403T132848Z
UID:4479-1775336400-1775347200@trentointernational.com
SUMMARY:Pasqua Trash Party
DESCRIPTION:Easter-themed party with music and dancing.
URL:https://trentointernational.com/event/pasqua-trash-party/
CATEGORIES:Music; Dance & Party
END:VEVENT
BEGIN:VEVENT
DTSTART;TZID=Europe/Rome:20260405T150000
DTEND;TZID=Europe/Rome:20260405T170000
DTSTAMP:20260423T050541
CREATED:20260403T083034Z
LAST-MODIFIED:20260403T083034Z
UID:4470-1775401200-1775408400@trentointernational.com
SUMMARY:Dirty Talking Trento: Gender & Consent
DESCRIPTION:Talk on gender-based violence\, consent\, and legal boundaries in relationships.
URL:https://trentointernational.com/event/dirty-talking-trento-gender-consent/
CATEGORIES:Education
END:VEVENT
BEGIN:VEVENT
DTSTART;TZID=Europe/Rome:20260407T180000
DTEND;TZID=Europe/Rome:20260407T210000
DTSTAMP:20260423T050541
CREATED:20260403T133835Z
LAST-MODIFIED:20260403T133835Z
UID:4512-1775584800-1775595600@trentointernational.com
SUMMARY:Assisted Co-Working
DESCRIPTION:Assisted co-working session with support and collaboration.
URL:https://trentointernational.com/event/assisted-co-working/
CATEGORIES:Networking
END:VEVENT
BEGIN:VEVENT
DTSTART;TZID=Europe/Rome:20260407T203000
DTEND;TZID=Europe/Rome:20260407T223000
DTSTAMP:20260423T050541
CREATED:20260403T132848Z
LAST-MODIFIED:20260403T132848Z
UID:4480-1775593800-1775601000@trentointernational.com
SUMMARY:Book Club: Nature Theme
DESCRIPTION:Book club discussion focused on nature-themed literature.
URL:https://trentointernational.com/event/book-club-nature-theme/
CATEGORIES:Education
END:VEVENT
BEGIN:VEVENT
DTSTART;TZID=Europe/Rome:20260408T163000
DTEND;TZID=Europe/Rome:20260408T183000
DTSTAMP:20260423T050541
CREATED:20260403T082927Z
LAST-MODIFIED:20260403T082927Z
UID:4449-1775665800-1775673000@trentointernational.com
SUMMARY:Recycled Glass & Cutting Party
DESCRIPTION:Workshop to transform recycled glass into plant pots and share plant cuttings.
URL:https://trentointernational.com/event/recycled-glass-cutting-party/
CATEGORIES:Sustainability
END:VEVENT
BEGIN:VEVENT
DTSTART;TZID=Europe/Rome:20260408T174500
DTEND;TZID=Europe/Rome:20260408T204500
DTSTAMP:20260423T050541
CREATED:20260403T132847Z
LAST-MODIFIED:20260403T132847Z
UID:4477-1775670300-1775681100@trentointernational.com
SUMMARY:Protest & Society Talk
DESCRIPTION:Discussion on protests\, media representation\, and political participation in Italy.
URL:https://trentointernational.com/event/protest-society-talk/
CATEGORIES:Education
END:VEVENT
BEGIN:VEVENT
DTSTART;TZID=Europe/Rome:20260408T200000
DTEND;TZID=Europe/Rome:20260408T230000
DTSTAMP:20260423T050541
CREATED:20260403T082957Z
LAST-MODIFIED:20260403T082957Z
UID:4461-1775678400-1775689200@trentointernational.com
SUMMARY:BÖ.SENBERG + Il Pero Live
DESCRIPTION:Live performance blending techno rhythms and experimental percussion with local support act Il Pero.
URL:https://trentointernational.com/event/bo-senberg-il-pero-live/
CATEGORIES:Music; Dance & Party
END:VEVENT
BEGIN:VEVENT
DTSTART;TZID=Europe/Rome:20260409T100000
DTEND;TZID=Europe/Rome:20260409T235900
DTSTAMP:20260423T050541
CREATED:20260403T132949Z
LAST-MODIFIED:20260403T132949Z
UID:4501-1775728800-1775779140@trentointernational.com
SUMMARY:Co.Scienza Festival Opening Day
DESCRIPTION:Opening day of science festival with talks\, workshops\, and exhibitions.
URL:https://trentointernational.com/event/co-scienza-festival-opening-day/
CATEGORIES:Education
END:VEVENT
BEGIN:VEVENT
DTSTART;TZID=Europe/Rome:20260409T183000
DTEND;TZID=Europe/Rome:20260409T203000
DTSTAMP:20260423T050541
CREATED:20260403T132849Z
LAST-MODIFIED:20260403T132849Z
UID:4481-1775759400-1775766600@trentointernational.com
SUMMARY:Talk: Feminism Is Not a Brand
DESCRIPTION:Talk by Jennifer Guerra on feminism and its representation.
URL:https://trentointernational.com/event/talk-feminism-is-not-a-brand/
CATEGORIES:Education
END:VEVENT
BEGIN:VEVENT
DTSTART;TZID=Europe/Rome:20260409T190000
DTEND;TZID=Europe/Rome:20260409T220000
DTSTAMP:20260423T050541
CREATED:20260403T083029Z
LAST-MODIFIED:20260403T083029Z
UID:4469-1775761200-1775772000@trentointernational.com
SUMMARY:Film Screening: There’s Still Tomorrow
DESCRIPTION:Screening of Paola Cortellesi’s film reflecting on women’s rights and social struggles.
URL:https://trentointernational.com/event/film-screening-theres-still-tomorrow/
LOCATION:Cafe de la Paix\, Passaggio Teatro Osele\, 8\, Trento\, 38122\, Italy
CATEGORIES:Film
END:VEVENT
BEGIN:VEVENT
DTSTART;TZID=Europe/Rome:20260409T200000
DTEND;TZID=Europe/Rome:20260409T230000
DTSTAMP:20260423T050541
CREATED:20260403T132949Z
LAST-MODIFIED:20260403T132949Z
UID:4505-1775764800-1775775600@trentointernational.com
SUMMARY:Exhibition Opening: A New Tomorrow
DESCRIPTION:Exhibition opening exploring cancer research through visual storytelling.
URL:https://trentointernational.com/event/exhibition-opening-a-new-tomorrow/
CATEGORIES:Art & Culture
END:VEVENT
BEGIN:VEVENT
DTSTART;TZID=Europe/Rome:20260409T210000
DTEND;TZID=Europe/Rome:20260410T000000
DTSTAMP:20260423T050541
CREATED:20260403T082743Z
LAST-MODIFIED:20260403T082743Z
UID:4413-1775768400-1775779200@trentointernational.com
SUMMARY:WANNA BE SANBARADIO
DESCRIPTION:Live radio-style event with new voices and music by emerging artist gabbbrielllz.
URL:https://trentointernational.com/event/wanna-be-sanbaradio/
CATEGORIES:Music; Dance & Party
END:VEVENT
BEGIN:VEVENT
DTSTART;TZID=Europe/Rome:20260410T110000
DTEND;TZID=Europe/Rome:20260410T140000
DTSTAMP:20260423T050541
CREATED:20260403T082843Z
LAST-MODIFIED:20260403T082843Z
UID:4435-1775818800-1775829600@trentointernational.com
SUMMARY:Buried Love Exhibition Opening
DESCRIPTION:Opening of a photography exhibition exploring trauma\, memory\, and family history.
URL:https://trentointernational.com/event/buried-love-exhibition-opening/
CATEGORIES:Art & Culture
END:VEVENT
BEGIN:VEVENT
DTSTART;TZID=Europe/Rome:20260410T150000
DTEND;TZID=Europe/Rome:20260410T180000
DTSTAMP:20260423T050541
CREATED:20260403T082956Z
LAST-MODIFIED:20260403T082956Z
UID:4457-1775833200-1775844000@trentointernational.com
SUMMARY:Eco Lab in Valle: Terragnolo Workshop
DESCRIPTION:Afternoon workshop with tea\, discussions\, and creative activities.
URL:https://trentointernational.com/event/eco-lab-in-valle-terragnolo-workshop/
CATEGORIES:Sustainability
END:VEVENT
BEGIN:VEVENT
DTSTART;TZID=Europe/Rome:20260410T180000
DTEND;TZID=Europe/Rome:20260410T210000
DTSTAMP:20260423T050541
CREATED:20260403T133837Z
LAST-MODIFIED:20260403T133837Z
UID:4517-1775844000-1775854800@trentointernational.com
SUMMARY:Co-Working Session
DESCRIPTION:Open co-working session for shared productivity.
URL:https://trentointernational.com/event/co-working-session-2/
CATEGORIES:Networking
END:VEVENT
BEGIN:VEVENT
DTSTART;TZID=Europe/Rome:20260410T180000
DTEND;TZID=Europe/Rome:20260410T220000
DTSTAMP:20260423T050541
CREATED:20260403T082743Z
LAST-MODIFIED:20260403T082743Z
UID:4415-1775844000-1775858400@trentointernational.com
SUMMARY:Prismatica: Queer Refractions
DESCRIPTION:Short films\, discussions\, and music exploring queer identity\, migration\, and belonging.
URL:https://trentointernational.com/event/prismatica-queer-refractions/
CATEGORIES:Film
END:VEVENT
BEGIN:VEVENT
DTSTART;TZID=Europe/Rome:20260410T200000
DTEND;TZID=Europe/Rome:20260410T230000
DTSTAMP:20260423T050541
CREATED:20260403T132934Z
LAST-MODIFIED:20260403T132934Z
UID:4498-1775851200-1775862000@trentointernational.com
SUMMARY:Asparagus Dinner
DESCRIPTION:Seasonal dinner featuring asparagus-based dishes with curated menu.
URL:https://trentointernational.com/event/asparagus-dinner/
CATEGORIES:Food & Drinks
END:VEVENT
BEGIN:VEVENT
DTSTART;TZID=Europe/Rome:20260410T203000
DTEND;TZID=Europe/Rome:20260410T223000
DTSTAMP:20260423T050541
CREATED:20260403T132949Z
LAST-MODIFIED:20260403T132949Z
UID:4502-1775853000-1775860200@trentointernational.com
SUMMARY:Constellations – Science & Music Show
DESCRIPTION:Immersive show combining physics\, music\, and storytelling about the universe.
URL:https://trentointernational.com/event/constellations-science-music-show/
LOCATION:Teatro Sanbàpolis\, Via della Malpensada 82\, Trento\, 38123\, Italy
CATEGORIES:Art & Culture
END:VEVENT
BEGIN:VEVENT
DTSTART;TZID=Europe/Rome:20260410T210000
DTEND;TZID=Europe/Rome:20260411T000000
DTSTAMP:20260423T050541
CREATED:20260403T082927Z
LAST-MODIFIED:20260403T082927Z
UID:4447-1775854800-1775865600@trentointernational.com
SUMMARY:MEDAGLIA Live
DESCRIPTION:Live performance by MEDAGLIA\, exploring contemporary songwriting.
URL:https://trentointernational.com/event/medaglia-live/
LOCATION:La Foresta\, Piazzale Orsi\, 15-16\, Rovereto\, 38068\, Italy
CATEGORIES:Music; Dance & Party
END:VEVENT
END:VCALENDAR