BEGIN:VCALENDAR
VERSION:2.0
PRODID:-//Trento International - ECPv6.15.20//NONSGML v1.0//EN
CALSCALE:GREGORIAN
METHOD:PUBLISH
X-ORIGINAL-URL:https://trentointernational.com
X-WR-CALDESC:Events for Trento International
REFRESH-INTERVAL;VALUE=DURATION:PT1H
X-Robots-Tag:noindex
X-PUBLISHED-TTL:PT1H
BEGIN:VTIMEZONE
TZID:Europe/Rome
BEGIN:DAYLIGHT
TZOFFSETFROM:+0100
TZOFFSETTO:+0200
TZNAME:CEST
DTSTART:20250330T010000
END:DAYLIGHT
BEGIN:STANDARD
TZOFFSETFROM:+0200
TZOFFSETTO:+0100
TZNAME:CET
DTSTART:20251026T010000
END:STANDARD
BEGIN:DAYLIGHT
TZOFFSETFROM:+0100
TZOFFSETTO:+0200
TZNAME:CEST
DTSTART:20260329T010000
END:DAYLIGHT
BEGIN:STANDARD
TZOFFSETFROM:+0200
TZOFFSETTO:+0100
TZNAME:CET
DTSTART:20261025T010000
END:STANDARD
BEGIN:DAYLIGHT
TZOFFSETFROM:+0100
TZOFFSETTO:+0200
TZNAME:CEST
DTSTART:20270328T010000
END:DAYLIGHT
BEGIN:STANDARD
TZOFFSETFROM:+0200
TZOFFSETTO:+0100
TZNAME:CET
DTSTART:20271031T010000
END:STANDARD
END:VTIMEZONE
BEGIN:VEVENT
DTSTART;TZID=Europe/Rome:20260428T170000
DTEND;TZID=Europe/Rome:20260428T190000
DTSTAMP:20260415T153418
CREATED:20260403T082942Z
LAST-MODIFIED:20260403T082942Z
UID:4455-1777395600-1777402800@trentointernational.com
SUMMARY:Foresta Knitting Club
DESCRIPTION:Knitting and crochet meetup working on a collective piece. Beginners welcome.
URL:https://trentointernational.com/event/foresta-knitting-club/
CATEGORIES:Art & Culture
END:VEVENT
BEGIN:VEVENT
DTSTART;TZID=Europe/Rome:20260428T180000
DTEND;TZID=Europe/Rome:20260428T210000
DTSTAMP:20260415T153418
CREATED:20260403T133835Z
LAST-MODIFIED:20260403T133835Z
UID:4515-1777399200-1777410000@trentointernational.com
SUMMARY:Assisted Co-Working
DESCRIPTION:Assisted co-working session with support and collaboration.
URL:https://trentointernational.com/event/assisted-co-working-4/
CATEGORIES:Networking
END:VEVENT
BEGIN:VEVENT
DTSTART;TZID=Europe/Rome:20260428T180000
DTEND;TZID=Europe/Rome:20260428T210000
DTSTAMP:20260415T153418
CREATED:20260403T133852Z
LAST-MODIFIED:20260403T133852Z
UID:4522-1777399200-1777410000@trentointernational.com
SUMMARY:Ri Tratto – Drawing & Painting Course
DESCRIPTION:Drawing and painting course exploring artistic techniques.
URL:https://trentointernational.com/event/ri-tratto-drawing-painting-course-3/
CATEGORIES:Art & Culture
END:VEVENT
BEGIN:VEVENT
DTSTART;TZID=Europe/Rome:20260428T190000
DTEND;TZID=Europe/Rome:20260428T220000
DTSTAMP:20260415T153418
CREATED:20260403T132904Z
LAST-MODIFIED:20260403T132904Z
UID:4488-1777402800-1777413600@trentointernational.com
SUMMARY:Collettivo Ricorrente: Crime Science
DESCRIPTION:Talk exploring the science of crime with guest speakers.
URL:https://trentointernational.com/event/collettivo-ricorrente-crime-science/
CATEGORIES:Education
END:VEVENT
END:VCALENDAR