BEGIN:VCALENDAR
VERSION:2.0
PRODID:-//Trento International - ECPv6.15.20//NONSGML v1.0//EN
CALSCALE:GREGORIAN
METHOD:PUBLISH
X-WR-CALNAME:Trento International
X-ORIGINAL-URL:https://trentointernational.com
X-WR-CALDESC:Events for Trento International
REFRESH-INTERVAL;VALUE=DURATION:PT1H
X-Robots-Tag:noindex
X-PUBLISHED-TTL:PT1H
BEGIN:VTIMEZONE
TZID:Europe/Rome
BEGIN:DAYLIGHT
TZOFFSETFROM:+0100
TZOFFSETTO:+0200
TZNAME:CEST
DTSTART:20250330T010000
END:DAYLIGHT
BEGIN:STANDARD
TZOFFSETFROM:+0200
TZOFFSETTO:+0100
TZNAME:CET
DTSTART:20251026T010000
END:STANDARD
BEGIN:DAYLIGHT
TZOFFSETFROM:+0100
TZOFFSETTO:+0200
TZNAME:CEST
DTSTART:20260329T010000
END:DAYLIGHT
BEGIN:STANDARD
TZOFFSETFROM:+0200
TZOFFSETTO:+0100
TZNAME:CET
DTSTART:20261025T010000
END:STANDARD
BEGIN:DAYLIGHT
TZOFFSETFROM:+0100
TZOFFSETTO:+0200
TZNAME:CEST
DTSTART:20270328T010000
END:DAYLIGHT
BEGIN:STANDARD
TZOFFSETFROM:+0200
TZOFFSETTO:+0100
TZNAME:CET
DTSTART:20271031T010000
END:STANDARD
END:VTIMEZONE
BEGIN:VEVENT
DTSTART;TZID=Europe/Rome:20260419T100000
DTEND;TZID=Europe/Rome:20260419T200000
DTSTAMP:20260416T103310
CREATED:20260403T082827Z
LAST-MODIFIED:20260403T082827Z
UID:4431-1776592800-1776628800@trentointernational.com
SUMMARY:Vinokilo Vintage Sale
DESCRIPTION:Vintage clothing sale by weight featuring global curated pieces.
URL:https://trentointernational.com/event/vinokilo-vintage-sale-2/
CATEGORIES:Shopping
END:VEVENT
BEGIN:VEVENT
DTSTART;TZID=Europe/Rome:20260419T170000
DTEND;TZID=Europe/Rome:20260419T190000
DTSTAMP:20260416T103310
CREATED:20260403T132849Z
LAST-MODIFIED:20260403T132849Z
UID:4485-1776618000-1776625200@trentointernational.com
SUMMARY:Salsa Dance
DESCRIPTION:Salsa dance session open to participants of all levels.
URL:https://trentointernational.com/event/salsa-dance/
CATEGORIES:Dance & Party
END:VEVENT
BEGIN:VEVENT
DTSTART;TZID=Europe/Rome:20260419T190000
DTEND;TZID=Europe/Rome:20260419T210000
DTSTAMP:20260416T103310
CREATED:20260403T132919Z
LAST-MODIFIED:20260403T132919Z
UID:4495-1776625200-1776632400@trentointernational.com
SUMMARY:Social Pizza Night for Gaza
DESCRIPTION:Fundraising dinner supporting the Global Sumud Flotilla mission to Gaza.
URL:https://trentointernational.com/event/social-pizza-night-for-gaza/
LOCATION:Centro Sociale Bruno\, Lungadige San Nicolò\, 4\, Trento\, Italy
CATEGORIES:Food & Drinks
END:VEVENT
BEGIN:VEVENT
DTSTART;TZID=Europe/Rome:20260419T210000
DTEND;TZID=Europe/Rome:20260419T230000
DTSTAMP:20260416T103310
CREATED:20260403T132934Z
LAST-MODIFIED:20260403T132934Z
UID:4496-1776632400-1776639600@trentointernational.com
SUMMARY:Social Pizza Night for Gaza
DESCRIPTION:Second dinner slot for fundraising pizza night supporting Gaza mission.
URL:https://trentointernational.com/event/social-pizza-night-for-gaza-2/
LOCATION:Centro Sociale Bruno\, Lungadige San Nicolò\, 4\, Trento\, Italy
CATEGORIES:Food & Drinks
END:VEVENT
END:VCALENDAR