BEGIN:VCALENDAR
VERSION:2.0
PRODID:-//Trento International - ECPv6.15.20//NONSGML v1.0//EN
CALSCALE:GREGORIAN
METHOD:PUBLISH
X-WR-CALNAME:Trento International
X-ORIGINAL-URL:https://trentointernational.com
X-WR-CALDESC:Events for Trento International
REFRESH-INTERVAL;VALUE=DURATION:PT1H
X-Robots-Tag:noindex
X-PUBLISHED-TTL:PT1H
BEGIN:VTIMEZONE
TZID:Europe/Rome
BEGIN:DAYLIGHT
TZOFFSETFROM:+0100
TZOFFSETTO:+0200
TZNAME:CEST
DTSTART:20250330T010000
END:DAYLIGHT
BEGIN:STANDARD
TZOFFSETFROM:+0200
TZOFFSETTO:+0100
TZNAME:CET
DTSTART:20251026T010000
END:STANDARD
BEGIN:DAYLIGHT
TZOFFSETFROM:+0100
TZOFFSETTO:+0200
TZNAME:CEST
DTSTART:20260329T010000
END:DAYLIGHT
BEGIN:STANDARD
TZOFFSETFROM:+0200
TZOFFSETTO:+0100
TZNAME:CET
DTSTART:20261025T010000
END:STANDARD
BEGIN:DAYLIGHT
TZOFFSETFROM:+0100
TZOFFSETTO:+0200
TZNAME:CEST
DTSTART:20270328T010000
END:DAYLIGHT
BEGIN:STANDARD
TZOFFSETFROM:+0200
TZOFFSETTO:+0100
TZNAME:CET
DTSTART:20271031T010000
END:STANDARD
END:VTIMEZONE
BEGIN:VEVENT
DTSTART;TZID=Europe/Rome:20260418T093000
DTEND;TZID=Europe/Rome:20260418T130000
DTSTAMP:20260416T105106
CREATED:20260403T132934Z
LAST-MODIFIED:20260403T132934Z
UID:4500-1776504600-1776517200@trentointernational.com
SUMMARY:Mercato della Terra
DESCRIPTION:Farmers market with local producers and sustainable products.
URL:https://trentointernational.com/event/mercato-della-terra-2/
CATEGORIES:Shopping
END:VEVENT
BEGIN:VEVENT
DTSTART;TZID=Europe/Rome:20260418T100000
DTEND;TZID=Europe/Rome:20260418T200000
DTSTAMP:20260416T105106
CREATED:20260403T082827Z
LAST-MODIFIED:20260403T082827Z
UID:4430-1776506400-1776542400@trentointernational.com
SUMMARY:Vinokilo Vintage Sale
DESCRIPTION:Vintage clothing sale by weight featuring global curated pieces.
URL:https://trentointernational.com/event/vinokilo-vintage-sale/
CATEGORIES:Shopping
END:VEVENT
BEGIN:VEVENT
DTSTART;TZID=Europe/Rome:20260418T204500
DTEND;TZID=Europe/Rome:20260418T234500
DTSTAMP:20260416T105106
CREATED:20260403T082743Z
LAST-MODIFIED:20260403T082743Z
UID:4412-1776545100-1776555900@trentointernational.com
SUMMARY:Poetry Slam + Reading
DESCRIPTION:Poetry slam night with live readings and performances.
URL:https://trentointernational.com/event/poetry-slam-reading/
CATEGORIES:Art & Culture
END:VEVENT
END:VCALENDAR