BEGIN:VCALENDAR
VERSION:2.0
PRODID:-//Trento International - ECPv6.15.20//NONSGML v1.0//EN
CALSCALE:GREGORIAN
METHOD:PUBLISH
X-WR-CALNAME:Trento International
X-ORIGINAL-URL:https://trentointernational.com
X-WR-CALDESC:Events for Trento International
REFRESH-INTERVAL;VALUE=DURATION:PT1H
X-Robots-Tag:noindex
X-PUBLISHED-TTL:PT1H
BEGIN:VTIMEZONE
TZID:Europe/Rome
BEGIN:DAYLIGHT
TZOFFSETFROM:+0100
TZOFFSETTO:+0200
TZNAME:CEST
DTSTART:20250330T010000
END:DAYLIGHT
BEGIN:STANDARD
TZOFFSETFROM:+0200
TZOFFSETTO:+0100
TZNAME:CET
DTSTART:20251026T010000
END:STANDARD
BEGIN:DAYLIGHT
TZOFFSETFROM:+0100
TZOFFSETTO:+0200
TZNAME:CEST
DTSTART:20260329T010000
END:DAYLIGHT
BEGIN:STANDARD
TZOFFSETFROM:+0200
TZOFFSETTO:+0100
TZNAME:CET
DTSTART:20261025T010000
END:STANDARD
BEGIN:DAYLIGHT
TZOFFSETFROM:+0100
TZOFFSETTO:+0200
TZNAME:CEST
DTSTART:20270328T010000
END:DAYLIGHT
BEGIN:STANDARD
TZOFFSETFROM:+0200
TZOFFSETTO:+0100
TZNAME:CET
DTSTART:20271031T010000
END:STANDARD
END:VTIMEZONE
BEGIN:VEVENT
DTSTART;TZID=Europe/Rome:20260413T093000
DTEND;TZID=Europe/Rome:20260413T113000
DTSTAMP:20260417T094317
CREATED:20260403T082942Z
LAST-MODIFIED:20260403T082942Z
UID:4456-1776072600-1776079800@trentointernational.com
SUMMARY:Eco Lab in Valle: Isera Walk
DESCRIPTION:Inclusive walk for all ages exploring the local area.
URL:https://trentointernational.com/event/eco-lab-in-valle-isera-walk/
CATEGORIES:Outdoor & Sports
END:VEVENT
BEGIN:VEVENT
DTSTART;TZID=Europe/Rome:20260413T163000
DTEND;TZID=Europe/Rome:20260413T193000
DTSTAMP:20260417T094317
CREATED:20260403T132919Z
LAST-MODIFIED:20260403T132919Z
UID:4493-1776097800-1776108600@trentointernational.com
SUMMARY:Sound Nature & 3D Printing Workshop
DESCRIPTION:Interactive workshop combining plants\, electronics\, and 3D printing.
URL:https://trentointernational.com/event/sound-nature-3d-printing-workshop/
LOCATION:HarpoLab\, Piazza Garzetti 24\, Trento\, Italy
CATEGORIES:Education
END:VEVENT
BEGIN:VEVENT
DTSTART;TZID=Europe/Rome:20260413T173000
DTEND;TZID=Europe/Rome:20260413T193000
DTSTAMP:20260417T094317
CREATED:20260403T082756Z
LAST-MODIFIED:20260403T082756Z
UID:4418-1776101400-1776108600@trentointernational.com
SUMMARY:Bike Repair Workshop
DESCRIPTION:Hands-on workshop to learn how to repair a bike.
URL:https://trentointernational.com/event/bike-repair-workshop/
CATEGORIES:Education
END:VEVENT
BEGIN:VEVENT
DTSTART;TZID=Europe/Rome:20260413T183000
DTEND;TZID=Europe/Rome:20260413T210000
DTSTAMP:20260417T094317
CREATED:20260403T082857Z
LAST-MODIFIED:20260403T082857Z
UID:4438-1776105000-1776114000@trentointernational.com
SUMMARY:Creative Writing Workshop
DESCRIPTION:Creative writing workshop exploring beginnings\, endings\, and storytelling in a multilingual setting.
URL:https://trentointernational.com/event/creative-writing-workshop/
LOCATION:Le Garage Lab\, Vicolo dalla Piccola\, 8\, Trento\, 38122\, Italy
CATEGORIES:Education
END:VEVENT
END:VCALENDAR