BEGIN:VCALENDAR
VERSION:2.0
PRODID:-//Trento International - ECPv6.15.20//NONSGML v1.0//EN
CALSCALE:GREGORIAN
METHOD:PUBLISH
X-WR-CALNAME:Trento International
X-ORIGINAL-URL:https://trentointernational.com
X-WR-CALDESC:Events for Trento International
REFRESH-INTERVAL;VALUE=DURATION:PT1H
X-Robots-Tag:noindex
X-PUBLISHED-TTL:PT1H
BEGIN:VTIMEZONE
TZID:Europe/Rome
BEGIN:DAYLIGHT
TZOFFSETFROM:+0100
TZOFFSETTO:+0200
TZNAME:CEST
DTSTART:20250330T010000
END:DAYLIGHT
BEGIN:STANDARD
TZOFFSETFROM:+0200
TZOFFSETTO:+0100
TZNAME:CET
DTSTART:20251026T010000
END:STANDARD
BEGIN:DAYLIGHT
TZOFFSETFROM:+0100
TZOFFSETTO:+0200
TZNAME:CEST
DTSTART:20260329T010000
END:DAYLIGHT
BEGIN:STANDARD
TZOFFSETFROM:+0200
TZOFFSETTO:+0100
TZNAME:CET
DTSTART:20261025T010000
END:STANDARD
BEGIN:DAYLIGHT
TZOFFSETFROM:+0100
TZOFFSETTO:+0200
TZNAME:CEST
DTSTART:20270328T010000
END:DAYLIGHT
BEGIN:STANDARD
TZOFFSETFROM:+0200
TZOFFSETTO:+0100
TZNAME:CET
DTSTART:20271031T010000
END:STANDARD
END:VTIMEZONE
BEGIN:VEVENT
DTSTART;TZID=Europe/Rome:20260412T160000
DTEND;TZID=Europe/Rome:20260412T190000
DTSTAMP:20260416T103305
CREATED:20260403T132919Z
LAST-MODIFIED:20260403T132919Z
UID:4492-1776009600-1776020400@trentointernational.com
SUMMARY:CleanUP Day Ledro Land Art
DESCRIPTION:Community cleanup event in nature combining environmental care with social gathering and tea.
URL:https://trentointernational.com/event/cleanup-day-ledro-land-art/
LOCATION:Ledro Land Art\, via\, Malga Cita\, Pur\, TN\, 38067\, Italy
CATEGORIES:Outdoor & Sports
END:VEVENT
BEGIN:VEVENT
DTSTART;TZID=Europe/Rome:20260412T170000
DTEND;TZID=Europe/Rome:20260412T230000
DTSTAMP:20260416T103305
CREATED:20260403T083042Z
LAST-MODIFIED:20260403T083042Z
UID:4473-1776013200-1776034800@trentointernational.com
SUMMARY:Let’s Gather to Stay Human
DESCRIPTION:Community fundraising event supporting a school project in Gaza\, with food\, talks\, and social gathering.
URL:https://trentointernational.com/event/lets-gather-to-stay-human/
CATEGORIES:Networking
END:VEVENT
END:VCALENDAR