BEGIN:VCALENDAR
VERSION:2.0
PRODID:-//Trento International - ECPv6.15.20//NONSGML v1.0//EN
CALSCALE:GREGORIAN
METHOD:PUBLISH
X-WR-CALNAME:Trento International
X-ORIGINAL-URL:https://trentointernational.com
X-WR-CALDESC:Events for Trento International
REFRESH-INTERVAL;VALUE=DURATION:PT1H
X-Robots-Tag:noindex
X-PUBLISHED-TTL:PT1H
BEGIN:VTIMEZONE
TZID:Europe/Rome
BEGIN:DAYLIGHT
TZOFFSETFROM:+0100
TZOFFSETTO:+0200
TZNAME:CEST
DTSTART:20250330T010000
END:DAYLIGHT
BEGIN:STANDARD
TZOFFSETFROM:+0200
TZOFFSETTO:+0100
TZNAME:CET
DTSTART:20251026T010000
END:STANDARD
BEGIN:DAYLIGHT
TZOFFSETFROM:+0100
TZOFFSETTO:+0200
TZNAME:CEST
DTSTART:20260329T010000
END:DAYLIGHT
BEGIN:STANDARD
TZOFFSETFROM:+0200
TZOFFSETTO:+0100
TZNAME:CET
DTSTART:20261025T010000
END:STANDARD
BEGIN:DAYLIGHT
TZOFFSETFROM:+0100
TZOFFSETTO:+0200
TZNAME:CEST
DTSTART:20270328T010000
END:DAYLIGHT
BEGIN:STANDARD
TZOFFSETFROM:+0200
TZOFFSETTO:+0100
TZNAME:CET
DTSTART:20271031T010000
END:STANDARD
END:VTIMEZONE
BEGIN:VEVENT
DTSTART;TZID=Europe/Rome:20260410T110000
DTEND;TZID=Europe/Rome:20260410T140000
DTSTAMP:20260417T161121
CREATED:20260403T082843Z
LAST-MODIFIED:20260403T082843Z
UID:4435-1775818800-1775829600@trentointernational.com
SUMMARY:Buried Love Exhibition Opening
DESCRIPTION:Opening of a photography exhibition exploring trauma\, memory\, and family history.
URL:https://trentointernational.com/event/buried-love-exhibition-opening/
CATEGORIES:Art & Culture
END:VEVENT
BEGIN:VEVENT
DTSTART;TZID=Europe/Rome:20260410T150000
DTEND;TZID=Europe/Rome:20260410T180000
DTSTAMP:20260417T161121
CREATED:20260403T082956Z
LAST-MODIFIED:20260403T082956Z
UID:4457-1775833200-1775844000@trentointernational.com
SUMMARY:Eco Lab in Valle: Terragnolo Workshop
DESCRIPTION:Afternoon workshop with tea\, discussions\, and creative activities.
URL:https://trentointernational.com/event/eco-lab-in-valle-terragnolo-workshop/
CATEGORIES:Sustainability
END:VEVENT
BEGIN:VEVENT
DTSTART;TZID=Europe/Rome:20260410T180000
DTEND;TZID=Europe/Rome:20260410T210000
DTSTAMP:20260417T161121
CREATED:20260403T133837Z
LAST-MODIFIED:20260403T133837Z
UID:4517-1775844000-1775854800@trentointernational.com
SUMMARY:Co-Working Session
DESCRIPTION:Open co-working session for shared productivity.
URL:https://trentointernational.com/event/co-working-session-2/
CATEGORIES:Networking
END:VEVENT
BEGIN:VEVENT
DTSTART;TZID=Europe/Rome:20260410T180000
DTEND;TZID=Europe/Rome:20260410T220000
DTSTAMP:20260417T161121
CREATED:20260403T082743Z
LAST-MODIFIED:20260403T082743Z
UID:4415-1775844000-1775858400@trentointernational.com
SUMMARY:Prismatica: Queer Refractions
DESCRIPTION:Short films\, discussions\, and music exploring queer identity\, migration\, and belonging.
URL:https://trentointernational.com/event/prismatica-queer-refractions/
CATEGORIES:Film
END:VEVENT
BEGIN:VEVENT
DTSTART;TZID=Europe/Rome:20260410T200000
DTEND;TZID=Europe/Rome:20260410T230000
DTSTAMP:20260417T161121
CREATED:20260403T132934Z
LAST-MODIFIED:20260403T132934Z
UID:4498-1775851200-1775862000@trentointernational.com
SUMMARY:Asparagus Dinner
DESCRIPTION:Seasonal dinner featuring asparagus-based dishes with curated menu.
URL:https://trentointernational.com/event/asparagus-dinner/
CATEGORIES:Food & Drinks
END:VEVENT
BEGIN:VEVENT
DTSTART;TZID=Europe/Rome:20260410T203000
DTEND;TZID=Europe/Rome:20260410T223000
DTSTAMP:20260417T161121
CREATED:20260403T132949Z
LAST-MODIFIED:20260403T132949Z
UID:4502-1775853000-1775860200@trentointernational.com
SUMMARY:Constellations – Science & Music Show
DESCRIPTION:Immersive show combining physics\, music\, and storytelling about the universe.
URL:https://trentointernational.com/event/constellations-science-music-show/
LOCATION:Teatro Sanbàpolis\, Via della Malpensada 82\, Trento\, 38123\, Italy
CATEGORIES:Art & Culture
END:VEVENT
BEGIN:VEVENT
DTSTART;TZID=Europe/Rome:20260410T210000
DTEND;TZID=Europe/Rome:20260411T000000
DTSTAMP:20260417T161121
CREATED:20260403T082927Z
LAST-MODIFIED:20260403T082927Z
UID:4447-1775854800-1775865600@trentointernational.com
SUMMARY:MEDAGLIA Live
DESCRIPTION:Live performance by MEDAGLIA\, exploring contemporary songwriting.
URL:https://trentointernational.com/event/medaglia-live/
LOCATION:La Foresta\, Piazzale Orsi\, 15-16\, Rovereto\, 38068\, Italy
CATEGORIES:Music; Dance & Party
END:VEVENT
BEGIN:VEVENT
DTSTART;TZID=Europe/Rome:20260410T213000
DTEND;TZID=Europe/Rome:20260411T003000
DTSTAMP:20260417T161121
CREATED:20260403T132849Z
LAST-MODIFIED:20260403T132849Z
UID:4482-1775856600-1775867400@trentointernational.com
SUMMARY:Tango Night
DESCRIPTION:Tango dance evening organized by Equilibri Altri.
URL:https://trentointernational.com/event/tango-night/
CATEGORIES:Dance & Party
END:VEVENT
END:VCALENDAR