BEGIN:VCALENDAR
VERSION:2.0
PRODID:-//Trento International - ECPv6.15.20//NONSGML v1.0//EN
CALSCALE:GREGORIAN
METHOD:PUBLISH
X-WR-CALNAME:Trento International
X-ORIGINAL-URL:https://trentointernational.com
X-WR-CALDESC:Events for Trento International
REFRESH-INTERVAL;VALUE=DURATION:PT1H
X-Robots-Tag:noindex
X-PUBLISHED-TTL:PT1H
BEGIN:VTIMEZONE
TZID:Europe/Rome
BEGIN:DAYLIGHT
TZOFFSETFROM:+0100
TZOFFSETTO:+0200
TZNAME:CEST
DTSTART:20250330T010000
END:DAYLIGHT
BEGIN:STANDARD
TZOFFSETFROM:+0200
TZOFFSETTO:+0100
TZNAME:CET
DTSTART:20251026T010000
END:STANDARD
BEGIN:DAYLIGHT
TZOFFSETFROM:+0100
TZOFFSETTO:+0200
TZNAME:CEST
DTSTART:20260329T010000
END:DAYLIGHT
BEGIN:STANDARD
TZOFFSETFROM:+0200
TZOFFSETTO:+0100
TZNAME:CET
DTSTART:20261025T010000
END:STANDARD
BEGIN:DAYLIGHT
TZOFFSETFROM:+0100
TZOFFSETTO:+0200
TZNAME:CEST
DTSTART:20270328T010000
END:DAYLIGHT
BEGIN:STANDARD
TZOFFSETFROM:+0200
TZOFFSETTO:+0100
TZNAME:CET
DTSTART:20271031T010000
END:STANDARD
END:VTIMEZONE
BEGIN:VEVENT
DTSTART;TZID=Europe/Rome:20260326T180000
DTEND;TZID=Europe/Rome:20260326T210000
DTSTAMP:20260415T153716
CREATED:20260301T161427Z
LAST-MODIFIED:20260301T161427Z
UID:4363-1774548000-1774558800@trentointernational.com
SUMMARY:Melancholia
DESCRIPTION:
URL:https://trentointernational.com/event/melancholia/
LOCATION:HarpoLab\, Piazza Garzetti 24\, Trento\, Italy
CATEGORIES:Film
END:VEVENT
BEGIN:VEVENT
DTSTART;TZID=Europe/Rome:20260326T204500
DTEND;TZID=Europe/Rome:20260326T234500
DTSTAMP:20260415T153716
CREATED:20260301T161427Z
LAST-MODIFIED:20260301T161427Z
UID:4364-1774557900-1774568700@trentointernational.com
SUMMARY:Melancholia
DESCRIPTION:
URL:https://trentointernational.com/event/melancholia-2/
LOCATION:HarpoLab\, Piazza Garzetti 24\, Trento\, Italy
CATEGORIES:Film
END:VEVENT
END:VCALENDAR