BEGIN:VCALENDAR
VERSION:2.0
PRODID:-//Trento International - ECPv6.15.20//NONSGML v1.0//EN
CALSCALE:GREGORIAN
METHOD:PUBLISH
X-ORIGINAL-URL:https://trentointernational.com
X-WR-CALDESC:Events for Trento International
REFRESH-INTERVAL;VALUE=DURATION:PT1H
X-Robots-Tag:noindex
X-PUBLISHED-TTL:PT1H
BEGIN:VTIMEZONE
TZID:Europe/Rome
BEGIN:DAYLIGHT
TZOFFSETFROM:+0100
TZOFFSETTO:+0200
TZNAME:CEST
DTSTART:20250330T010000
END:DAYLIGHT
BEGIN:STANDARD
TZOFFSETFROM:+0200
TZOFFSETTO:+0100
TZNAME:CET
DTSTART:20251026T010000
END:STANDARD
BEGIN:DAYLIGHT
TZOFFSETFROM:+0100
TZOFFSETTO:+0200
TZNAME:CEST
DTSTART:20260329T010000
END:DAYLIGHT
BEGIN:STANDARD
TZOFFSETFROM:+0200
TZOFFSETTO:+0100
TZNAME:CET
DTSTART:20261025T010000
END:STANDARD
BEGIN:DAYLIGHT
TZOFFSETFROM:+0100
TZOFFSETTO:+0200
TZNAME:CEST
DTSTART:20270328T010000
END:DAYLIGHT
BEGIN:STANDARD
TZOFFSETFROM:+0200
TZOFFSETTO:+0100
TZNAME:CET
DTSTART:20271031T010000
END:STANDARD
END:VTIMEZONE
BEGIN:VEVENT
DTSTART;TZID=Europe/Rome:20260323T180000
DTEND;TZID=Europe/Rome:20260323T210000
DTSTAMP:20260417T161316
CREATED:20260301T161411Z
LAST-MODIFIED:20260301T161411Z
UID:4357-1774288800-1774299600@trentointernational.com
SUMMARY:The Misfits / Gli spostati
DESCRIPTION:
URL:https://trentointernational.com/event/the-misfits-gli-spostati/
LOCATION:HarpoLab\, Piazza Garzetti 24\, Trento\, Italy
CATEGORIES:Film
END:VEVENT
BEGIN:VEVENT
DTSTART;TZID=Europe/Rome:20260323T193000
DTEND;TZID=Europe/Rome:20260323T213000
DTSTAMP:20260417T161316
CREATED:20260301T160416Z
LAST-MODIFIED:20260301T160416Z
UID:4300-1774294200-1774301400@trentointernational.com
SUMMARY:Short Story Writing Workshop (Session 3/4)
DESCRIPTION:Session 3 of 4 of the short story writing workshop series (membership required).
URL:https://trentointernational.com/event/short-story-writing-workshop-session-3-4/
CATEGORIES:Education
END:VEVENT
BEGIN:VEVENT
DTSTART;TZID=Europe/Rome:20260323T204500
DTEND;TZID=Europe/Rome:20260323T234500
DTSTAMP:20260417T161316
CREATED:20260301T161412Z
LAST-MODIFIED:20260301T161412Z
UID:4358-1774298700-1774309500@trentointernational.com
SUMMARY:The Misfits / Gli spostati
DESCRIPTION:
URL:https://trentointernational.com/event/the-misfits-gli-spostati-2/
LOCATION:HarpoLab\, Piazza Garzetti 24\, Trento\, Italy
CATEGORIES:Film
END:VEVENT
END:VCALENDAR