BEGIN:VCALENDAR
VERSION:2.0
PRODID:-//Trento International - ECPv6.15.20//NONSGML v1.0//EN
CALSCALE:GREGORIAN
METHOD:PUBLISH
X-WR-CALNAME:Trento International
X-ORIGINAL-URL:https://trentointernational.com
X-WR-CALDESC:Events for Trento International
REFRESH-INTERVAL;VALUE=DURATION:PT1H
X-Robots-Tag:noindex
X-PUBLISHED-TTL:PT1H
BEGIN:VTIMEZONE
TZID:Europe/Rome
BEGIN:DAYLIGHT
TZOFFSETFROM:+0100
TZOFFSETTO:+0200
TZNAME:CEST
DTSTART:20250330T010000
END:DAYLIGHT
BEGIN:STANDARD
TZOFFSETFROM:+0200
TZOFFSETTO:+0100
TZNAME:CET
DTSTART:20251026T010000
END:STANDARD
BEGIN:DAYLIGHT
TZOFFSETFROM:+0100
TZOFFSETTO:+0200
TZNAME:CEST
DTSTART:20260329T010000
END:DAYLIGHT
BEGIN:STANDARD
TZOFFSETFROM:+0200
TZOFFSETTO:+0100
TZNAME:CET
DTSTART:20261025T010000
END:STANDARD
BEGIN:DAYLIGHT
TZOFFSETFROM:+0100
TZOFFSETTO:+0200
TZNAME:CEST
DTSTART:20270328T010000
END:DAYLIGHT
BEGIN:STANDARD
TZOFFSETFROM:+0200
TZOFFSETTO:+0100
TZNAME:CET
DTSTART:20271031T010000
END:STANDARD
END:VTIMEZONE
BEGIN:VEVENT
DTSTART;TZID=Europe/Rome:20260322T090000
DTEND;TZID=Europe/Rome:20260321T130000
DTSTAMP:20260417T161321
CREATED:20260301T160417Z
LAST-MODIFIED:20260302T141946Z
UID:4303-1774170000-1774098000@trentointernational.com
SUMMARY:NEB Cooltours – Eco-Joyful Exploration (Date 2)
DESCRIPTION:Second date of the Eco-Joyful Exploration experience (Italian + English). Register by email 3 days in advance. \n  \n🌿 ECO-JOYFUL EXPLORATION\nWe will explore the Valli del Leno\, guided by wild vegetation\, flowing water\, and clay as storytellers of the landscape. We will mindfully connect with the place\, its people\, and its history\, experiencing slow time through working with clay\, awakening the senses and encouraging creative sharing. \n📅 Date 1: March 15\, 2026 | 1:30–5:30 PM\n📅 Date 2: March 22\, 2026 | 9:00 AM –1:00 PM\n📅 Date 3: April 26\, 2026 | 1:30–5:30 PM \nLocation: Terragnolo\nDuration: 4 hours\n👥 Participants: maximum 15 people\n🗣 Languages: Italian\, English; Italian Sign Language (LIS) not provided. \nFacilitators:\nChiara Arduini\, clay enthusiast\, and Sara Spitaleri\, community activator \n📩 Registration closes 3 days in advance\, write to: saraspitaleri@laforesta.net \nDiscover the full program of project activities > Link in bio (LINKTREE)
URL:https://trentointernational.com/event/neb-cooltours-eco-joyful-exploration-date-2/
CATEGORIES:Outdoor & Sports
END:VEVENT
BEGIN:VEVENT
DTSTART;TZID=Europe/Rome:20260322T160000
DTEND;TZID=Europe/Rome:20260322T190000
DTSTAMP:20260417T161321
CREATED:20260301T161324Z
LAST-MODIFIED:20260301T161324Z
UID:4354-1774195200-1774206000@trentointernational.com
SUMMARY:Valerio Oss racconta Mila
DESCRIPTION:
URL:https://trentointernational.com/event/valerio-oss-racconta-mila/
LOCATION:HarpoLab\, Piazza Garzetti 24\, Trento\, Italy
CATEGORIES:Film
END:VEVENT
BEGIN:VEVENT
DTSTART;TZID=Europe/Rome:20260322T163000
DTEND;TZID=Europe/Rome:20260322T193000
DTSTAMP:20260417T161321
CREATED:20260301T155028Z
LAST-MODIFIED:20260301T155028Z
UID:4283-1774197000-1774207800@trentointernational.com
SUMMARY:Baitattack #69 (Norman Bates + Pushing Forward)
DESCRIPTION:Hardcore live show for HC fans featuring Norman Bates (Vicenza) and Pushing Forward (Trieste).
URL:https://trentointernational.com/event/baitattack-69-norman-bates-pushing-forward/
CATEGORIES:Music; Dance & Party
END:VEVENT
BEGIN:VEVENT
DTSTART;TZID=Europe/Rome:20260322T180000
DTEND;TZID=Europe/Rome:20260322T210000
DTSTAMP:20260417T161321
CREATED:20260301T161411Z
LAST-MODIFIED:20260301T161411Z
UID:4355-1774202400-1774213200@trentointernational.com
SUMMARY:Il potere
DESCRIPTION:
URL:https://trentointernational.com/event/il-potere/
LOCATION:HarpoLab\, Piazza Garzetti 24\, Trento\, Italy
CATEGORIES:Film
END:VEVENT
BEGIN:VEVENT
DTSTART;TZID=Europe/Rome:20260322T204500
DTEND;TZID=Europe/Rome:20260322T234500
DTSTAMP:20260417T161321
CREATED:20260301T161411Z
LAST-MODIFIED:20260301T161411Z
UID:4356-1774212300-1774223100@trentointernational.com
SUMMARY:Il potere
DESCRIPTION:
URL:https://trentointernational.com/event/il-potere-2/
LOCATION:HarpoLab\, Piazza Garzetti 24\, Trento\, Italy
CATEGORIES:Film
END:VEVENT
END:VCALENDAR