BEGIN:VCALENDAR
VERSION:2.0
PRODID:-//Trento International - ECPv6.15.20//NONSGML v1.0//EN
CALSCALE:GREGORIAN
METHOD:PUBLISH
X-ORIGINAL-URL:https://trentointernational.com
X-WR-CALDESC:Events for Trento International
REFRESH-INTERVAL;VALUE=DURATION:PT1H
X-Robots-Tag:noindex
X-PUBLISHED-TTL:PT1H
BEGIN:VTIMEZONE
TZID:Europe/Rome
BEGIN:DAYLIGHT
TZOFFSETFROM:+0100
TZOFFSETTO:+0200
TZNAME:CEST
DTSTART:20250330T010000
END:DAYLIGHT
BEGIN:STANDARD
TZOFFSETFROM:+0200
TZOFFSETTO:+0100
TZNAME:CET
DTSTART:20251026T010000
END:STANDARD
BEGIN:DAYLIGHT
TZOFFSETFROM:+0100
TZOFFSETTO:+0200
TZNAME:CEST
DTSTART:20260329T010000
END:DAYLIGHT
BEGIN:STANDARD
TZOFFSETFROM:+0200
TZOFFSETTO:+0100
TZNAME:CET
DTSTART:20261025T010000
END:STANDARD
BEGIN:DAYLIGHT
TZOFFSETFROM:+0100
TZOFFSETTO:+0200
TZNAME:CEST
DTSTART:20270328T010000
END:DAYLIGHT
BEGIN:STANDARD
TZOFFSETFROM:+0200
TZOFFSETTO:+0100
TZNAME:CET
DTSTART:20271031T010000
END:STANDARD
END:VTIMEZONE
BEGIN:VEVENT
DTSTART;TZID=Europe/Rome:20260316T180000
DTEND;TZID=Europe/Rome:20260316T210000
DTSTAMP:20260417T161408
CREATED:20260301T161107Z
LAST-MODIFIED:20260301T161107Z
UID:4342-1773684000-1773694800@trentointernational.com
SUMMARY:Some Like It Hot / A qualcuno piace caldo
DESCRIPTION:
URL:https://trentointernational.com/event/some-like-it-hot-a-qualcuno-piace-caldo/
LOCATION:HarpoLab\, Piazza Garzetti 24\, Trento\, Italy
CATEGORIES:Film
END:VEVENT
BEGIN:VEVENT
DTSTART;TZID=Europe/Rome:20260316T183000
DTEND;TZID=Europe/Rome:20260316T213000
DTSTAMP:20260417T161408
CREATED:20260301T160417Z
LAST-MODIFIED:20260301T160417Z
UID:4305-1773685800-1773696600@trentointernational.com
SUMMARY:Free Workshop: “Alimentazione Libera” (Food Freedom Method)
DESCRIPTION:Free intro workshop on a behavioral approach to a healthier relationship with food (hunger/fullness cues\, emotional eating\, practical strategies). Info/registration via DM to Laura (@lamiavitainwellness).
URL:https://trentointernational.com/event/free-workshop-alimentazione-libera-food-freedom-method/
CATEGORIES:Education
END:VEVENT
BEGIN:VEVENT
DTSTART;TZID=Europe/Rome:20260316T193000
DTEND;TZID=Europe/Rome:20260316T213000
DTSTAMP:20260417T161408
CREATED:20260301T160416Z
LAST-MODIFIED:20260301T160416Z
UID:4299-1773689400-1773696600@trentointernational.com
SUMMARY:Short Story Writing Workshop (Session 2/4)
DESCRIPTION:Session 2 of 4 of the short story writing workshop series (membership required).
URL:https://trentointernational.com/event/short-story-writing-workshop-session-2-4/
CATEGORIES:Education
END:VEVENT
BEGIN:VEVENT
DTSTART;TZID=Europe/Rome:20260316T204500
DTEND;TZID=Europe/Rome:20260316T234500
DTSTAMP:20260417T161408
CREATED:20260301T161108Z
LAST-MODIFIED:20260301T161108Z
UID:4343-1773693900-1773704700@trentointernational.com
SUMMARY:Some Like It Hot / A qualcuno piace caldo
DESCRIPTION:
URL:https://trentointernational.com/event/some-like-it-hot-a-qualcuno-piace-caldo-2/
LOCATION:HarpoLab\, Piazza Garzetti 24\, Trento\, Italy
CATEGORIES:Film
END:VEVENT
END:VCALENDAR