BEGIN:VCALENDAR
VERSION:2.0
PRODID:-//Trento International - ECPv6.15.20//NONSGML v1.0//EN
CALSCALE:GREGORIAN
METHOD:PUBLISH
X-WR-CALNAME:Trento International
X-ORIGINAL-URL:https://trentointernational.com
X-WR-CALDESC:Events for Trento International
REFRESH-INTERVAL;VALUE=DURATION:PT1H
X-Robots-Tag:noindex
X-PUBLISHED-TTL:PT1H
BEGIN:VTIMEZONE
TZID:Europe/Rome
BEGIN:DAYLIGHT
TZOFFSETFROM:+0100
TZOFFSETTO:+0200
TZNAME:CEST
DTSTART:20250330T010000
END:DAYLIGHT
BEGIN:STANDARD
TZOFFSETFROM:+0200
TZOFFSETTO:+0100
TZNAME:CET
DTSTART:20251026T010000
END:STANDARD
BEGIN:DAYLIGHT
TZOFFSETFROM:+0100
TZOFFSETTO:+0200
TZNAME:CEST
DTSTART:20260329T010000
END:DAYLIGHT
BEGIN:STANDARD
TZOFFSETFROM:+0200
TZOFFSETTO:+0100
TZNAME:CET
DTSTART:20261025T010000
END:STANDARD
BEGIN:DAYLIGHT
TZOFFSETFROM:+0100
TZOFFSETTO:+0200
TZNAME:CEST
DTSTART:20270328T010000
END:DAYLIGHT
BEGIN:STANDARD
TZOFFSETFROM:+0200
TZOFFSETTO:+0100
TZNAME:CET
DTSTART:20271031T010000
END:STANDARD
END:VTIMEZONE
BEGIN:VEVENT
DTSTART;VALUE=DATE:20260223
DTEND;VALUE=DATE:20260315
DTSTAMP:20260417T161548
CREATED:20260226T145654Z
LAST-MODIFIED:20260226T145654Z
UID:4245-1771819200-1773460799@trentointernational.com
SUMMARY:University Book Market (Mercatino del Libro Universitario)
DESCRIPTION:Buy or sell used university books at half the cover price. Openings: Wed 9:30–12:30; Thu & Fri 15:30–18:30. Location: UDU office at the Department of Economics.
URL:https://trentointernational.com/event/university-book-market-mercatino-del-libro-universitario/
END:VEVENT
BEGIN:VEVENT
DTSTART;VALUE=DATE:20260303
DTEND;VALUE=DATE:20260305
DTSTAMP:20260417T161548
CREATED:20260226T145724Z
LAST-MODIFIED:20260226T145724Z
UID:4255-1772510400-1772596799@trentointernational.com
SUMMARY:JUNK FASHION (Module 1: Awareness)
DESCRIPTION:Multi-module program challenging throwaway fashion culture. Module 1 sessions are free with required registration (Linktree in bio). No times given → all-day.
URL:https://trentointernational.com/event/junk-fashion-module-1-awareness/
LOCATION:spazio rame\, Via Madruzzo 66\, Trento\, Italy
END:VEVENT
BEGIN:VEVENT
DTSTART;TZID=Europe/Rome:20260303T100000
DTEND;TZID=Europe/Rome:20260303T130000
DTSTAMP:20260417T161548
CREATED:20260301T160417Z
LAST-MODIFIED:20260301T160417Z
UID:4306-1772532000-1772542800@trentointernational.com
SUMMARY:Zanna Bianca (White Fang) – Film Screening (Primary Schools)
DESCRIPTION:Animated film adaptation of Jack London’s White Fang (France\, 85 min). A powerful coming-of-age adventure set in the Yukon during the gold rush.
URL:https://trentointernational.com/event/zanna-bianca-white-fang-film-screening-primary-schools/
CATEGORIES:Film
END:VEVENT
BEGIN:VEVENT
DTSTART;TZID=Europe/Rome:20260303T193000
DTEND;TZID=Europe/Rome:20260303T223000
DTSTAMP:20260417T161548
CREATED:20260226T145709Z
LAST-MODIFIED:20260226T145709Z
UID:4252-1772566200-1772577000@trentointernational.com
SUMMARY:“N’ Altra Venere” – Prep night for March 8
DESCRIPTION:Creative meetup to prepare materials for March 8. Safe space\, all ages welcome; hosted with Arcigay’s women’s group.
URL:https://trentointernational.com/event/n-altra-venere-prep-night-for-march-8/
CATEGORIES:Activism
END:VEVENT
END:VCALENDAR