BEGIN:VCALENDAR
VERSION:2.0
PRODID:-//Trento International - ECPv6.15.20//NONSGML v1.0//EN
CALSCALE:GREGORIAN
METHOD:PUBLISH
X-ORIGINAL-URL:https://trentointernational.com
X-WR-CALDESC:Events for Trento International
REFRESH-INTERVAL;VALUE=DURATION:PT1H
X-Robots-Tag:noindex
X-PUBLISHED-TTL:PT1H
BEGIN:VTIMEZONE
TZID:Europe/Rome
BEGIN:DAYLIGHT
TZOFFSETFROM:+0100
TZOFFSETTO:+0200
TZNAME:CEST
DTSTART:20250330T010000
END:DAYLIGHT
BEGIN:STANDARD
TZOFFSETFROM:+0200
TZOFFSETTO:+0100
TZNAME:CET
DTSTART:20251026T010000
END:STANDARD
BEGIN:DAYLIGHT
TZOFFSETFROM:+0100
TZOFFSETTO:+0200
TZNAME:CEST
DTSTART:20260329T010000
END:DAYLIGHT
BEGIN:STANDARD
TZOFFSETFROM:+0200
TZOFFSETTO:+0100
TZNAME:CET
DTSTART:20261025T010000
END:STANDARD
BEGIN:DAYLIGHT
TZOFFSETFROM:+0100
TZOFFSETTO:+0200
TZNAME:CEST
DTSTART:20270328T010000
END:DAYLIGHT
BEGIN:STANDARD
TZOFFSETFROM:+0200
TZOFFSETTO:+0100
TZNAME:CET
DTSTART:20271031T010000
END:STANDARD
END:VTIMEZONE
BEGIN:VEVENT
DTSTART;VALUE=DATE:20260223
DTEND;VALUE=DATE:20260315
DTSTAMP:20260417T161552
CREATED:20260226T145654Z
LAST-MODIFIED:20260226T145654Z
UID:4245-1771819200-1773460799@trentointernational.com
SUMMARY:University Book Market (Mercatino del Libro Universitario)
DESCRIPTION:Buy or sell used university books at half the cover price. Openings: Wed 9:30–12:30; Thu & Fri 15:30–18:30. Location: UDU office at the Department of Economics.
URL:https://trentointernational.com/event/university-book-market-mercatino-del-libro-universitario/
END:VEVENT
BEGIN:VEVENT
DTSTART;TZID=Europe/Rome:20260302T180000
DTEND;TZID=Europe/Rome:20260302T210000
DTSTAMP:20260417T161552
CREATED:20260301T155030Z
LAST-MODIFIED:20260301T155030Z
UID:4287-1772474400-1772485200@trentointernational.com
SUMMARY:Cultivating Biodiversity (Coltivare la Biodiversità) – Agroecologia in Rete
DESCRIPTION:Expert talk on sustainable agriculture practices with speakers from Fondazione E. Mach and EURAC Bolzano. Info: info@reteriservebrenta.it
URL:https://trentointernational.com/event/cultivating-biodiversity-coltivare-la-biodiversita-agroecologia-in-rete/
CATEGORIES:Sustainability
END:VEVENT
BEGIN:VEVENT
DTSTART;TZID=Europe/Rome:20260302T180000
DTEND;TZID=Europe/Rome:20260302T210000
DTSTAMP:20260417T161552
CREATED:20260301T161006Z
LAST-MODIFIED:20260301T161006Z
UID:4318-1772474400-1772485200@trentointernational.com
SUMMARY:Gentlemen Prefer Blondes / Gli uomini preferiscono le bionde
DESCRIPTION:
URL:https://trentointernational.com/event/gentlemen-prefer-blondes-gli-uomini-preferiscono-le-bionde/
LOCATION:HarpoLab\, Piazza Garzetti 24\, Trento\, Italy
CATEGORIES:Film
END:VEVENT
BEGIN:VEVENT
DTSTART;TZID=Europe/Rome:20260302T183000
DTEND;TZID=Europe/Rome:20260302T213000
DTSTAMP:20260417T161552
CREATED:20260301T155028Z
LAST-MODIFIED:20260301T155028Z
UID:4285-1772476200-1772487000@trentointernational.com
SUMMARY:The Cost of Growth – Trento Premiere + Debate
DESCRIPTION:Premiere screening followed by a debate on socio-environmental crises\, extractive systems\, and existing alternatives.
URL:https://trentointernational.com/event/the-cost-of-growth-trento-premiere-debate/
CATEGORIES:Education
END:VEVENT
BEGIN:VEVENT
DTSTART;TZID=Europe/Rome:20260302T203000
DTEND;TZID=Europe/Rome:20260302T233000
DTSTAMP:20260417T161552
CREATED:20260301T152323Z
LAST-MODIFIED:20260301T152323Z
UID:4279-1772483400-1772494200@trentointernational.com
SUMMARY:A Fil di Cielo – Theatre Performance
DESCRIPTION:Theatre performance by Gianluigi Gherzi about migration\, belonging and nature.
URL:https://trentointernational.com/event/a-fil-di-cielo-theatre-performance/
LOCATION:Teatro Cuminetti\, Via S. Croce\, 67\, Trento\, Italy
CATEGORIES:Art & Culture
END:VEVENT
BEGIN:VEVENT
DTSTART;TZID=Europe/Rome:20260302T204500
DTEND;TZID=Europe/Rome:20260302T234500
DTSTAMP:20260417T161552
CREATED:20260301T161006Z
LAST-MODIFIED:20260301T161006Z
UID:4319-1772484300-1772495100@trentointernational.com
SUMMARY:Gentlemen Prefer Blondes / Gli uomini preferiscono le bionde
DESCRIPTION:
URL:https://trentointernational.com/event/gentlemen-prefer-blondes-gli-uomini-preferiscono-le-bionde-2/
LOCATION:HarpoLab\, Piazza Garzetti 24\, Trento\, Italy
CATEGORIES:Film
END:VEVENT
END:VCALENDAR