BEGIN:VCALENDAR
VERSION:2.0
PRODID:-//Trento International - ECPv6.15.20//NONSGML v1.0//EN
CALSCALE:GREGORIAN
METHOD:PUBLISH
X-WR-CALNAME:Trento International
X-ORIGINAL-URL:https://trentointernational.com
X-WR-CALDESC:Events for Trento International
REFRESH-INTERVAL;VALUE=DURATION:PT1H
X-Robots-Tag:noindex
X-PUBLISHED-TTL:PT1H
BEGIN:VTIMEZONE
TZID:Europe/Rome
BEGIN:DAYLIGHT
TZOFFSETFROM:+0100
TZOFFSETTO:+0200
TZNAME:CEST
DTSTART:20250330T010000
END:DAYLIGHT
BEGIN:STANDARD
TZOFFSETFROM:+0200
TZOFFSETTO:+0100
TZNAME:CET
DTSTART:20251026T010000
END:STANDARD
BEGIN:DAYLIGHT
TZOFFSETFROM:+0100
TZOFFSETTO:+0200
TZNAME:CEST
DTSTART:20260329T010000
END:DAYLIGHT
BEGIN:STANDARD
TZOFFSETFROM:+0200
TZOFFSETTO:+0100
TZNAME:CET
DTSTART:20261025T010000
END:STANDARD
BEGIN:DAYLIGHT
TZOFFSETFROM:+0100
TZOFFSETTO:+0200
TZNAME:CEST
DTSTART:20270328T010000
END:DAYLIGHT
BEGIN:STANDARD
TZOFFSETFROM:+0200
TZOFFSETTO:+0100
TZNAME:CET
DTSTART:20271031T010000
END:STANDARD
END:VTIMEZONE
BEGIN:VEVENT
DTSTART;VALUE=DATE:20260223
DTEND;VALUE=DATE:20260315
DTSTAMP:20260417T161555
CREATED:20260226T145654Z
LAST-MODIFIED:20260226T145654Z
UID:4245-1771819200-1773460799@trentointernational.com
SUMMARY:University Book Market (Mercatino del Libro Universitario)
DESCRIPTION:Buy or sell used university books at half the cover price. Openings: Wed 9:30–12:30; Thu & Fri 15:30–18:30. Location: UDU office at the Department of Economics.
URL:https://trentointernational.com/event/university-book-market-mercatino-del-libro-universitario/
END:VEVENT
BEGIN:VEVENT
DTSTART;VALUE=DATE:20260301
DTEND;VALUE=DATE:20260303
DTSTAMP:20260417T161555
CREATED:20260226T145653Z
LAST-MODIFIED:20260226T145653Z
UID:4239-1772337600-1772423999@trentointernational.com
SUMMARY:Wild Herbs Foraging Day
DESCRIPTION:A full-day experience in the fields learning to recognize\, harvest\, and taste wild herbs with Graziano Perugini. Respectful gathering and biodiversity awareness.
URL:https://trentointernational.com/event/wild-herbs-foraging-day/
END:VEVENT
BEGIN:VEVENT
DTSTART;TZID=Europe/Rome:20260301T090000
DTEND;TZID=Europe/Rome:20260302T010000
DTSTAMP:20260417T161555
CREATED:20260301T152250Z
LAST-MODIFIED:20260301T152250Z
UID:4265-1772355600-1772413200@trentointernational.com
SUMMARY:Café Desordre – Live at Nini Bar
DESCRIPTION:Live folk/Balkan/psych music night at Nini Bar.
URL:https://trentointernational.com/event/cafe-desordre-live-at-nini-bar/
CATEGORIES:Music; Dance & Party
END:VEVENT
BEGIN:VEVENT
DTSTART;TZID=Europe/Rome:20260301T160000
DTEND;TZID=Europe/Rome:20260301T190000
DTSTAMP:20260417T161555
CREATED:20260301T161005Z
LAST-MODIFIED:20260301T161005Z
UID:4315-1772380800-1772391600@trentointernational.com
SUMMARY:Le avventure di Tintin
DESCRIPTION:
URL:https://trentointernational.com/event/le-avventure-di-tintin/
LOCATION:HarpoLab\, Piazza Garzetti 24\, Trento\, Italy
CATEGORIES:Film
END:VEVENT
BEGIN:VEVENT
DTSTART;TZID=Europe/Rome:20260301T180000
DTEND;TZID=Europe/Rome:20260301T210000
DTSTAMP:20260417T161555
CREATED:20260301T161005Z
LAST-MODIFIED:20260301T161005Z
UID:4316-1772388000-1772398800@trentointernational.com
SUMMARY:Cadaveri eccellenti
DESCRIPTION:
URL:https://trentointernational.com/event/cadaveri-eccellenti/
LOCATION:HarpoLab\, Piazza Garzetti 24\, Trento\, Italy
CATEGORIES:Film
END:VEVENT
BEGIN:VEVENT
DTSTART;TZID=Europe/Rome:20260301T204500
DTEND;TZID=Europe/Rome:20260301T234500
DTSTAMP:20260417T161555
CREATED:20260301T161006Z
LAST-MODIFIED:20260301T161006Z
UID:4317-1772397900-1772408700@trentointernational.com
SUMMARY:Cadaveri eccellenti
DESCRIPTION:
URL:https://trentointernational.com/event/cadaveri-eccellenti-2/
LOCATION:HarpoLab\, Piazza Garzetti 24\, Trento\, Italy
CATEGORIES:Film
END:VEVENT
END:VCALENDAR