BEGIN:VCALENDAR
VERSION:2.0
PRODID:-//Trento International - ECPv6.15.20//NONSGML v1.0//EN
CALSCALE:GREGORIAN
METHOD:PUBLISH
X-ORIGINAL-URL:https://trentointernational.com
X-WR-CALDESC:Events for Trento International
REFRESH-INTERVAL;VALUE=DURATION:PT1H
X-Robots-Tag:noindex
X-PUBLISHED-TTL:PT1H
BEGIN:VTIMEZONE
TZID:Europe/Rome
BEGIN:DAYLIGHT
TZOFFSETFROM:+0100
TZOFFSETTO:+0200
TZNAME:CEST
DTSTART:20250330T010000
END:DAYLIGHT
BEGIN:STANDARD
TZOFFSETFROM:+0200
TZOFFSETTO:+0100
TZNAME:CET
DTSTART:20251026T010000
END:STANDARD
BEGIN:DAYLIGHT
TZOFFSETFROM:+0100
TZOFFSETTO:+0200
TZNAME:CEST
DTSTART:20260329T010000
END:DAYLIGHT
BEGIN:STANDARD
TZOFFSETFROM:+0200
TZOFFSETTO:+0100
TZNAME:CET
DTSTART:20261025T010000
END:STANDARD
BEGIN:DAYLIGHT
TZOFFSETFROM:+0100
TZOFFSETTO:+0200
TZNAME:CEST
DTSTART:20270328T010000
END:DAYLIGHT
BEGIN:STANDARD
TZOFFSETFROM:+0200
TZOFFSETTO:+0100
TZNAME:CET
DTSTART:20271031T010000
END:STANDARD
END:VTIMEZONE
BEGIN:VEVENT
DTSTART;VALUE=DATE:20260223
DTEND;VALUE=DATE:20260315
DTSTAMP:20260417T161610
CREATED:20260226T145654Z
LAST-MODIFIED:20260226T145654Z
UID:4245-1771819200-1773460799@trentointernational.com
SUMMARY:University Book Market (Mercatino del Libro Universitario)
DESCRIPTION:Buy or sell used university books at half the cover price. Openings: Wed 9:30–12:30; Thu & Fri 15:30–18:30. Location: UDU office at the Department of Economics.
URL:https://trentointernational.com/event/university-book-market-mercatino-del-libro-universitario/
END:VEVENT
BEGIN:VEVENT
DTSTART;VALUE=DATE:20260225
DTEND;VALUE=DATE:20260227
DTSTAMP:20260417T161610
CREATED:20260128T105212Z
LAST-MODIFIED:20260128T105212Z
UID:4137-1771992000-1772078399@trentointernational.com
SUMMARY:Popiół i diament / Cenere e diamanti
DESCRIPTION:
URL:https://trentointernational.com/event/popiol-i-diament-cenere-e-diamanti/
LOCATION:HarpoLab\, Piazza Garzetti 24\, Trento\, Italy
CATEGORIES:Film
END:VEVENT
BEGIN:VEVENT
DTSTART;TZID=Europe/Rome:20260225T190000
DTEND;TZID=Europe/Rome:20260225T220000
DTSTAMP:20260417T161610
CREATED:20260201T104959Z
LAST-MODIFIED:20260201T104959Z
UID:4138-1772046000-1772056800@trentointernational.com
SUMMARY:Linocut Workshop in English
DESCRIPTION:Trentointernational is organizing a linoprint workshop that will be held in English & Italian. We will be hosted by the Cafe de la Paix. More details to follow!
URL:https://trentointernational.com/event/linocut-workshop-in-english/
LOCATION:Cafe de la Paix\, Passaggio Teatro Osele\, 8\, Trento\, 38122\, Italy
END:VEVENT
END:VCALENDAR