BEGIN:VCALENDAR
VERSION:2.0
PRODID:-//Trento International - ECPv6.15.20//NONSGML v1.0//EN
CALSCALE:GREGORIAN
METHOD:PUBLISH
X-ORIGINAL-URL:https://trentointernational.com
X-WR-CALDESC:Events for Trento International
REFRESH-INTERVAL;VALUE=DURATION:PT1H
X-Robots-Tag:noindex
X-PUBLISHED-TTL:PT1H
BEGIN:VTIMEZONE
TZID:Europe/Rome
BEGIN:DAYLIGHT
TZOFFSETFROM:+0100
TZOFFSETTO:+0200
TZNAME:CEST
DTSTART:20250330T010000
END:DAYLIGHT
BEGIN:STANDARD
TZOFFSETFROM:+0200
TZOFFSETTO:+0100
TZNAME:CET
DTSTART:20251026T010000
END:STANDARD
BEGIN:DAYLIGHT
TZOFFSETFROM:+0100
TZOFFSETTO:+0200
TZNAME:CEST
DTSTART:20260329T010000
END:DAYLIGHT
BEGIN:STANDARD
TZOFFSETFROM:+0200
TZOFFSETTO:+0100
TZNAME:CET
DTSTART:20261025T010000
END:STANDARD
BEGIN:DAYLIGHT
TZOFFSETFROM:+0100
TZOFFSETTO:+0200
TZNAME:CEST
DTSTART:20270328T010000
END:DAYLIGHT
BEGIN:STANDARD
TZOFFSETFROM:+0200
TZOFFSETTO:+0100
TZNAME:CET
DTSTART:20271031T010000
END:STANDARD
END:VTIMEZONE
BEGIN:VEVENT
DTSTART;TZID=Europe/Rome:20260220T100000
DTEND;TZID=Europe/Rome:20260220T130000
DTSTAMP:20260417T095456
CREATED:20260128T102340Z
LAST-MODIFIED:20260128T102340Z
UID:4112-1771581600-1771592400@trentointernational.com
SUMMARY:Climb Till Death 2026
DESCRIPTION:Bouldering competition at Infinity Boulder. Registration details available online.
URL:https://trentointernational.com/event/climb-till-death-2026/
CATEGORIES:Outdoor & Sports
END:VEVENT
BEGIN:VEVENT
DTSTART;TZID=Europe/Rome:20260220T200000
DTEND;TZID=Europe/Rome:20260220T230000
DTSTAMP:20260417T095456
CREATED:20260128T102140Z
LAST-MODIFIED:20260128T102140Z
UID:4108-1771617600-1771628400@trentointernational.com
SUMMARY:Lost Obsession + Guests
DESCRIPTION:Hard rock concert featuring Lost Obsession\, Merningen\, Nina Duschek and Sisters of Sound.
URL:https://trentointernational.com/event/lost-obsession-guests/
CATEGORIES:Music; Dance & Party
END:VEVENT
BEGIN:VEVENT
DTSTART;TZID=Europe/Rome:20260220T203800
DTEND;TZID=Europe/Rome:20260221T003100
DTSTAMP:20260417T095456
CREATED:20260128T101940Z
LAST-MODIFIED:20260128T101940Z
UID:4106-1771619880-1771633860@trentointernational.com
SUMMARY:Nonsense Festival
DESCRIPTION:Absurd and playful party with bad music\, random activities and a prize for the worst costume.
URL:https://trentointernational.com/event/nonsense-festival/
CATEGORIES:Dance & Party
END:VEVENT
END:VCALENDAR