BEGIN:VCALENDAR
VERSION:2.0
PRODID:-//Trento International - ECPv6.15.20//NONSGML v1.0//EN
CALSCALE:GREGORIAN
METHOD:PUBLISH
X-WR-CALNAME:Trento International
X-ORIGINAL-URL:https://trentointernational.com
X-WR-CALDESC:Events for Trento International
REFRESH-INTERVAL;VALUE=DURATION:PT1H
X-Robots-Tag:noindex
X-PUBLISHED-TTL:PT1H
BEGIN:VTIMEZONE
TZID:Europe/Rome
BEGIN:DAYLIGHT
TZOFFSETFROM:+0100
TZOFFSETTO:+0200
TZNAME:CEST
DTSTART:20250330T010000
END:DAYLIGHT
BEGIN:STANDARD
TZOFFSETFROM:+0200
TZOFFSETTO:+0100
TZNAME:CET
DTSTART:20251026T010000
END:STANDARD
BEGIN:DAYLIGHT
TZOFFSETFROM:+0100
TZOFFSETTO:+0200
TZNAME:CEST
DTSTART:20260329T010000
END:DAYLIGHT
BEGIN:STANDARD
TZOFFSETFROM:+0200
TZOFFSETTO:+0100
TZNAME:CET
DTSTART:20261025T010000
END:STANDARD
BEGIN:DAYLIGHT
TZOFFSETFROM:+0100
TZOFFSETTO:+0200
TZNAME:CEST
DTSTART:20270328T010000
END:DAYLIGHT
BEGIN:STANDARD
TZOFFSETFROM:+0200
TZOFFSETTO:+0100
TZNAME:CET
DTSTART:20271031T010000
END:STANDARD
END:VTIMEZONE
BEGIN:VEVENT
DTSTART;VALUE=DATE:20260219
DTEND;VALUE=DATE:20260221
DTSTAMP:20260417T095458
CREATED:20260128T104958Z
LAST-MODIFIED:20260128T104958Z
UID:4131-1771473600-1771559999@trentointernational.com
SUMMARY:Videomaking base
DESCRIPTION:
URL:https://trentointernational.com/event/videomaking-base/
LOCATION:HarpoLab\, Piazza Garzetti 24\, Trento\, Italy
CATEGORIES:Film
END:VEVENT
BEGIN:VEVENT
DTSTART;VALUE=DATE:20260219
DTEND;VALUE=DATE:20260221
DTSTAMP:20260417T095458
CREATED:20260207T081945Z
LAST-MODIFIED:20260207T081945Z
UID:4178-1771473600-1771559999@trentointernational.com
SUMMARY:Science Chat: Beatrice Savoldi on Gender Bias in LLMs (IT/EN)
DESCRIPTION:We recieved this event from the Cafe in advance\, but it hasn’t been published yet. Keep an eye on their instagram a week in advance for all the details!
URL:https://trentointernational.com/event/science-chat-beatrice-savoldi-on-gender-bias-in-llms-it-en/
LOCATION:Cafe de la Paix\, Passaggio Teatro Osele\, 8\, Trento\, 38122\, Italy
END:VEVENT
BEGIN:VEVENT
DTSTART;TZID=Europe/Rome:20260219T180000
DTEND;TZID=Europe/Rome:20260219T210000
DTSTAMP:20260417T095458
CREATED:20260128T101912Z
LAST-MODIFIED:20260128T101912Z
UID:4094-1771524000-1771534800@trentointernational.com
SUMMARY:Persone che scavalcano muri – Opening Talk
DESCRIPTION:Opening event of the training course on forced migration\, featuring journalist and author Gabriele Del Grande.
URL:https://trentointernational.com/event/persone-che-scavalcano-muri-opening-talk/
CATEGORIES:Education
END:VEVENT
BEGIN:VEVENT
DTSTART;TZID=Europe/Rome:20260219T190000
DTEND;TZID=Europe/Rome:20260219T220000
DTSTAMP:20260417T095458
CREATED:20260201T112019Z
LAST-MODIFIED:20260201T112019Z
UID:4156-1771527600-1771538400@trentointernational.com
SUMMARY:Smoking Green – Attenti al Lupo
DESCRIPTION:Reggae\, ska and R’n’B night with Smoking Green as part of Bar Lupo’s live music series.
URL:https://trentointernational.com/event/smoking-green-attenti-al-lupo/
CATEGORIES:Music; Dance & Party
END:VEVENT
END:VCALENDAR