BEGIN:VCALENDAR
VERSION:2.0
PRODID:-//Trento International - ECPv6.15.20//NONSGML v1.0//EN
CALSCALE:GREGORIAN
METHOD:PUBLISH
X-WR-CALNAME:Trento International
X-ORIGINAL-URL:https://trentointernational.com
X-WR-CALDESC:Events for Trento International
REFRESH-INTERVAL;VALUE=DURATION:PT1H
X-Robots-Tag:noindex
X-PUBLISHED-TTL:PT1H
BEGIN:VTIMEZONE
TZID:Europe/Rome
BEGIN:DAYLIGHT
TZOFFSETFROM:+0100
TZOFFSETTO:+0200
TZNAME:CEST
DTSTART:20250330T010000
END:DAYLIGHT
BEGIN:STANDARD
TZOFFSETFROM:+0200
TZOFFSETTO:+0100
TZNAME:CET
DTSTART:20251026T010000
END:STANDARD
BEGIN:DAYLIGHT
TZOFFSETFROM:+0100
TZOFFSETTO:+0200
TZNAME:CEST
DTSTART:20260329T010000
END:DAYLIGHT
BEGIN:STANDARD
TZOFFSETFROM:+0200
TZOFFSETTO:+0100
TZNAME:CET
DTSTART:20261025T010000
END:STANDARD
BEGIN:DAYLIGHT
TZOFFSETFROM:+0100
TZOFFSETTO:+0200
TZNAME:CEST
DTSTART:20270328T010000
END:DAYLIGHT
BEGIN:STANDARD
TZOFFSETFROM:+0200
TZOFFSETTO:+0100
TZNAME:CET
DTSTART:20271031T010000
END:STANDARD
END:VTIMEZONE
BEGIN:VEVENT
DTSTART;VALUE=DATE:20260218
DTEND;VALUE=DATE:20260220
DTSTAMP:20260417T161609
CREATED:20260128T104958Z
LAST-MODIFIED:20260128T104958Z
UID:4130-1771387200-1771473599@trentointernational.com
SUMMARY:Ecce Bombo
DESCRIPTION:
URL:https://trentointernational.com/event/ecce-bombo/
LOCATION:HarpoLab\, Piazza Garzetti 24\, Trento\, Italy
CATEGORIES:Film
END:VEVENT
BEGIN:VEVENT
DTSTART;VALUE=DATE:20260218
DTEND;VALUE=DATE:20260220
DTSTAMP:20260417T161609
CREATED:20260207T081835Z
LAST-MODIFIED:20260207T081835Z
UID:4175-1771387200-1771473599@trentointernational.com
SUMMARY:BarLibro (Book Bar) (IT)
DESCRIPTION:We recieved this event from the Cafe in advance\, but it hasn’t been published yet. Keep an eye on their instagram a week in advance for all the details!
URL:https://trentointernational.com/event/barlibro-book-bar-it/
LOCATION:Cafe de la Paix\, Passaggio Teatro Osele\, 8\, Trento\, 38122\, Italy
END:VEVENT
BEGIN:VEVENT
DTSTART;TZID=Europe/Rome:20260218T193000
DTEND;TZID=Europe/Rome:20260218T210000
DTSTAMP:20260417T161609
CREATED:20260128T101907Z
LAST-MODIFIED:20260128T101907Z
UID:4091-1771443000-1771448400@trentointernational.com
SUMMARY:I Met Kurt Cobain – Audiographies
DESCRIPTION:Presentation and live sound performance with Paolo Maoret and Marco degli Esposti.
URL:https://trentointernational.com/event/i-met-kurt-cobain-audiographies/
LOCATION:Le Garage Lab\, Vicolo dalla Piccola\, 8\, Trento\, 38122\, Italy
CATEGORIES:Talk
END:VEVENT
END:VCALENDAR