BEGIN:VCALENDAR
VERSION:2.0
PRODID:-//Trento International - ECPv6.15.20//NONSGML v1.0//EN
CALSCALE:GREGORIAN
METHOD:PUBLISH
X-WR-CALNAME:Trento International
X-ORIGINAL-URL:https://trentointernational.com
X-WR-CALDESC:Events for Trento International
REFRESH-INTERVAL;VALUE=DURATION:PT1H
X-Robots-Tag:noindex
X-PUBLISHED-TTL:PT1H
BEGIN:VTIMEZONE
TZID:Europe/Rome
BEGIN:DAYLIGHT
TZOFFSETFROM:+0100
TZOFFSETTO:+0200
TZNAME:CEST
DTSTART:20250330T010000
END:DAYLIGHT
BEGIN:STANDARD
TZOFFSETFROM:+0200
TZOFFSETTO:+0100
TZNAME:CET
DTSTART:20251026T010000
END:STANDARD
BEGIN:DAYLIGHT
TZOFFSETFROM:+0100
TZOFFSETTO:+0200
TZNAME:CEST
DTSTART:20260329T010000
END:DAYLIGHT
BEGIN:STANDARD
TZOFFSETFROM:+0200
TZOFFSETTO:+0100
TZNAME:CET
DTSTART:20261025T010000
END:STANDARD
BEGIN:DAYLIGHT
TZOFFSETFROM:+0100
TZOFFSETTO:+0200
TZNAME:CEST
DTSTART:20270328T010000
END:DAYLIGHT
BEGIN:STANDARD
TZOFFSETFROM:+0200
TZOFFSETTO:+0100
TZNAME:CET
DTSTART:20271031T010000
END:STANDARD
END:VTIMEZONE
BEGIN:VEVENT
DTSTART;VALUE=DATE:20260121
DTEND;VALUE=DATE:20260123
DTSTAMP:20260422T163851
CREATED:20260101T110611Z
LAST-MODIFIED:20260101T110611Z
UID:4012-1768968000-1769054399@trentointernational.com
SUMMARY:Afrodance course
DESCRIPTION:💃 Starting on Wednesday 21 January @afrovera brings to Foresta a new Afro Dance course full of energy and open to everyone erto! \n🕺Authentic steps\, African vibes\, captivating choreography and a whole lot of fun. Perfect for anyone who wants to move\, look good and feel like part of a group. \n📌 The course is held every Wednesday from 18:30 to 19:30 and is aimed at associated people. You can make the card here: bit.ly/associati-iscriviti (5€ until the end of 2026). \n🤑 Costs:\n35€ for the monthly subscription (4 lessons)\n55€ for the package of 10 lessons. \n📨 For info and subscriptions send an e-mail to ciao@laforesta.net
URL:https://trentointernational.com/event/afrodance-course/
LOCATION:La Foresta\, Piazzale Orsi\, 15-16\, Rovereto\, 38068\, Italy
END:VEVENT
END:VCALENDAR