BEGIN:VCALENDAR
VERSION:2.0
PRODID:-//Trento International - ECPv6.15.20//NONSGML v1.0//EN
CALSCALE:GREGORIAN
METHOD:PUBLISH
X-ORIGINAL-URL:https://trentointernational.com
X-WR-CALDESC:Events for Trento International
REFRESH-INTERVAL;VALUE=DURATION:PT1H
X-Robots-Tag:noindex
X-PUBLISHED-TTL:PT1H
BEGIN:VTIMEZONE
TZID:Europe/Rome
BEGIN:DAYLIGHT
TZOFFSETFROM:+0100
TZOFFSETTO:+0200
TZNAME:CEST
DTSTART:20250330T010000
END:DAYLIGHT
BEGIN:STANDARD
TZOFFSETFROM:+0200
TZOFFSETTO:+0100
TZNAME:CET
DTSTART:20251026T010000
END:STANDARD
BEGIN:DAYLIGHT
TZOFFSETFROM:+0100
TZOFFSETTO:+0200
TZNAME:CEST
DTSTART:20260329T010000
END:DAYLIGHT
BEGIN:STANDARD
TZOFFSETFROM:+0200
TZOFFSETTO:+0100
TZNAME:CET
DTSTART:20261025T010000
END:STANDARD
BEGIN:DAYLIGHT
TZOFFSETFROM:+0100
TZOFFSETTO:+0200
TZNAME:CEST
DTSTART:20270328T010000
END:DAYLIGHT
BEGIN:STANDARD
TZOFFSETFROM:+0200
TZOFFSETTO:+0100
TZNAME:CET
DTSTART:20271031T010000
END:STANDARD
END:VTIMEZONE
BEGIN:VEVENT
DTSTART;VALUE=DATE:20260118
DTEND;VALUE=DATE:20260120
DTSTAMP:20260423T162445
CREATED:20251227T190824Z
LAST-MODIFIED:20251227T190824Z
UID:3967-1768708800-1768795199@trentointernational.com
SUMMARY:Mozambique Cooking Workshop
DESCRIPTION:For the workshop on the preparation of  (stuffed and fried bundles\, which we will propose in vegetarian version) on Sunday 9 November at Cooperativa Edera at the moment the seats are sold out\, but we are collecting reservations of people interested in participating in a new date\, Sunday\, January 18\, 2026. \nWe invite all interested parties to send the pre-registration\, in order to be able to confirm the second appointment\, by contacting info@trentinomozambico.org.
URL:https://trentointernational.com/event/mozambique-cooking-workshop/
LOCATION:Emporio Edera\, Via Coni Zugna\, Trento\, Italy
CATEGORIES:Culture & Food
END:VEVENT
END:VCALENDAR