BEGIN:VCALENDAR
VERSION:2.0
PRODID:-//Trento International - ECPv6.15.20//NONSGML v1.0//EN
CALSCALE:GREGORIAN
METHOD:PUBLISH
X-ORIGINAL-URL:https://trentointernational.com
X-WR-CALDESC:Events for Trento International
REFRESH-INTERVAL;VALUE=DURATION:PT1H
X-Robots-Tag:noindex
X-PUBLISHED-TTL:PT1H
BEGIN:VTIMEZONE
TZID:Europe/Rome
BEGIN:DAYLIGHT
TZOFFSETFROM:+0100
TZOFFSETTO:+0200
TZNAME:CEST
DTSTART:20250330T010000
END:DAYLIGHT
BEGIN:STANDARD
TZOFFSETFROM:+0200
TZOFFSETTO:+0100
TZNAME:CET
DTSTART:20251026T010000
END:STANDARD
BEGIN:DAYLIGHT
TZOFFSETFROM:+0100
TZOFFSETTO:+0200
TZNAME:CEST
DTSTART:20260329T010000
END:DAYLIGHT
BEGIN:STANDARD
TZOFFSETFROM:+0200
TZOFFSETTO:+0100
TZNAME:CET
DTSTART:20261025T010000
END:STANDARD
BEGIN:DAYLIGHT
TZOFFSETFROM:+0100
TZOFFSETTO:+0200
TZNAME:CEST
DTSTART:20270328T010000
END:DAYLIGHT
BEGIN:STANDARD
TZOFFSETFROM:+0200
TZOFFSETTO:+0100
TZNAME:CET
DTSTART:20271031T010000
END:STANDARD
END:VTIMEZONE
BEGIN:VEVENT
DTSTART;VALUE=DATE:20260117
DTEND;VALUE=DATE:20260119
DTSTAMP:20260423T224638
CREATED:20260101T111143Z
LAST-MODIFIED:20260101T111143Z
UID:4020-1768622400-1768708799@trentointernational.com
SUMMARY:Gourmet for People BaBaCucina
DESCRIPTION:🍋 🟩 🍋SATURDAY\, JANUARY 17\, 2026…. BaBa Cultural Association is pleased to invite you ZooBass to its historic Format\, Gourmet for People.\n.\n★MAOLO TORREGIANI★\nGuru and expert Bolognese leavenator\, will be a guest in our BaBaCucina\, to offer you an original 100% vegetable menu that looks towards Levante\, astonishing you with a “sweet” final dive into the Eternal City.\n.\nFor those who have already had the pleasure of tasting their specialties will know that it is a dinner not to be missed!\n… For the curious the MENU will be released in the next few days perstay tuned!\n.\n€30 dinner cost\n.\n⚠️RESERVATION REQUIRED⚠️ on number 338 19047048 (Maximo)\nBe clever and don’t miss this appointment. Limited spots available !!!!\n.\n.\n.\n✮✮✮ ORARI ✮✮✮\n► 18:00 Apertura Cancelli BabaruM\n► 20:00 MAOLO Cultural Dinner\n► 23:00 BabaruM Gates Closing\n.\n✮✮✮ For all associates ✮✮✮\nTo enter BabaruM you need a card\, it costs €10 and is valid until the end of March 2026\, includes free entry to all events\nREMEMBER TO PRE REGISTER ON OUR WEBSITE (top right) : www.babaassociazioneculturale.it\n⚠PRE-REGISTRATION ONLINE REQUIRED⚠
URL:https://trentointernational.com/event/gourmet-for-people-babacucina/
LOCATION:BaBarum\, Via Fratelli Anderle\, 3\, Volano\, TN\, 38060\, Italy
END:VEVENT
BEGIN:VEVENT
DTSTART;TZID=Europe/Rome:20260117T073000
DTEND;TZID=Europe/Rome:20260117T130000
DTSTAMP:20260423T224638
CREATED:20251227T191619Z
LAST-MODIFIED:20251227T191619Z
UID:3973-1768635000-1768654800@trentointernational.com
SUMMARY:Farmer's Market
DESCRIPTION:Weekly farmers market at Piazza Dante on Saturday mornings
URL:https://trentointernational.com/event/farmers-market-3/
LOCATION:Piazza Dante\, Trento\, 38122
END:VEVENT
END:VCALENDAR