BEGIN:VCALENDAR
VERSION:2.0
PRODID:-//Trento International - ECPv6.15.20//NONSGML v1.0//EN
CALSCALE:GREGORIAN
METHOD:PUBLISH
X-ORIGINAL-URL:https://trentointernational.com
X-WR-CALDESC:Events for Trento International
REFRESH-INTERVAL;VALUE=DURATION:PT1H
X-Robots-Tag:noindex
X-PUBLISHED-TTL:PT1H
BEGIN:VTIMEZONE
TZID:Europe/Rome
BEGIN:DAYLIGHT
TZOFFSETFROM:+0100
TZOFFSETTO:+0200
TZNAME:CEST
DTSTART:20240331T010000
END:DAYLIGHT
BEGIN:STANDARD
TZOFFSETFROM:+0200
TZOFFSETTO:+0100
TZNAME:CET
DTSTART:20241027T010000
END:STANDARD
BEGIN:DAYLIGHT
TZOFFSETFROM:+0100
TZOFFSETTO:+0200
TZNAME:CEST
DTSTART:20250330T010000
END:DAYLIGHT
BEGIN:STANDARD
TZOFFSETFROM:+0200
TZOFFSETTO:+0100
TZNAME:CET
DTSTART:20251026T010000
END:STANDARD
BEGIN:DAYLIGHT
TZOFFSETFROM:+0100
TZOFFSETTO:+0200
TZNAME:CEST
DTSTART:20260329T010000
END:DAYLIGHT
BEGIN:STANDARD
TZOFFSETFROM:+0200
TZOFFSETTO:+0100
TZNAME:CET
DTSTART:20261025T010000
END:STANDARD
BEGIN:DAYLIGHT
TZOFFSETFROM:+0100
TZOFFSETTO:+0200
TZNAME:CEST
DTSTART:20270328T010000
END:DAYLIGHT
BEGIN:STANDARD
TZOFFSETFROM:+0200
TZOFFSETTO:+0100
TZNAME:CET
DTSTART:20271031T010000
END:STANDARD
END:VTIMEZONE
BEGIN:VEVENT
DTSTART;TZID=Europe/Rome:20251212T183000
DTEND;TZID=Europe/Rome:20260116T220000
DTSTAMP:20260421T004030
CREATED:20251201T160221Z
LAST-MODIFIED:20251201T160221Z
UID:3858-1765564200-1768600800@trentointernational.com
SUMMARY:SPACES: beyond the clear room
DESCRIPTION:Opening of second edition of SPAZI contemporary photography call. Includes announcement of the winning project. Features work by ten selected artists.
URL:https://trentointernational.com/event/spaces-beyond-the-clear-room/
LOCATION:Spazio Piera\, via Lavisotto 9\, Trento\, TN\, 38121\, Italy
CATEGORIES:Art & Culture
END:VEVENT
BEGIN:VEVENT
DTSTART;TZID=Europe/Rome:20251219T190000
DTEND;TZID=Europe/Rome:20251219T220000
DTSTAMP:20260421T004030
CREATED:20251201T160624Z
LAST-MODIFIED:20251201T160624Z
UID:3882-1766170800-1766181600@trentointernational.com
SUMMARY:Ludimus Board Game Night
DESCRIPTION:Social board game night open to all levels.
URL:https://trentointernational.com/event/ludimus-board-game-night-5/
CATEGORIES:Games
END:VEVENT
BEGIN:VEVENT
DTSTART;TZID=Europe/Rome:20251219T200000
DTEND;TZID=Europe/Rome:20251219T230000
DTSTAMP:20260421T004030
CREATED:20251201T160452Z
LAST-MODIFIED:20251201T160452Z
UID:3876-1766174400-1766185200@trentointernational.com
SUMMARY:Swing Night Ð Swing Dance Trento
DESCRIPTION:Swing dance night with live DJ and open floor at Smart Lab.
URL:https://trentointernational.com/event/swing-night-d-swing-dance-trento/
CATEGORIES:Dance & Party
END:VEVENT
BEGIN:VEVENT
DTSTART;TZID=Europe/Rome:20251219T210000
DTEND;TZID=Europe/Rome:20251219T235900
DTSTAMP:20260421T004030
CREATED:20251201T160639Z
LAST-MODIFIED:20251201T160639Z
UID:3886-1766178000-1766188740@trentointernational.com
SUMMARY:Feel Like a Bombed Cathedral Ð Electric Guitar & Heartbeats
DESCRIPTION:Experimental electric guitar performance with effects and heartbeat-driven sound.
URL:https://trentointernational.com/event/feel-like-a-bombed-cathedral-d-electric-guitar-heartbeats/
LOCATION:Le Garage Lab\, Vicolo dalla Piccola\, 8\, Trento\, 38122\, Italy
CATEGORIES:Music; Dance & Party
END:VEVENT
BEGIN:VEVENT
DTSTART;TZID=Europe/Rome:20251219T220000
DTEND;TZID=Europe/Rome:20251220T020000
DTSTAMP:20260421T004030
CREATED:20251201T160252Z
LAST-MODIFIED:20251201T160252Z
UID:3869-1766181600-1766196000@trentointernational.com
SUMMARY:Neuruni Social Dub pt. 2
DESCRIPTION:Ska\, rocksteady\, and dub night with Radio Fontani Sound System at Neuruni. Entry with Û10 membership.
URL:https://trentointernational.com/event/neuruni-social-dub-pt-2/
CATEGORIES:Dance & Party,Music; Dance & Party
END:VEVENT
END:VCALENDAR