BEGIN:VCALENDAR
VERSION:2.0
PRODID:-//Trento International - ECPv6.15.20//NONSGML v1.0//EN
CALSCALE:GREGORIAN
METHOD:PUBLISH
X-WR-CALNAME:Trento International
X-ORIGINAL-URL:https://trentointernational.com
X-WR-CALDESC:Events for Trento International
REFRESH-INTERVAL;VALUE=DURATION:PT1H
X-Robots-Tag:noindex
X-PUBLISHED-TTL:PT1H
BEGIN:VTIMEZONE
TZID:Europe/Rome
BEGIN:DAYLIGHT
TZOFFSETFROM:+0100
TZOFFSETTO:+0200
TZNAME:CEST
DTSTART:20240331T010000
END:DAYLIGHT
BEGIN:STANDARD
TZOFFSETFROM:+0200
TZOFFSETTO:+0100
TZNAME:CET
DTSTART:20241027T010000
END:STANDARD
BEGIN:DAYLIGHT
TZOFFSETFROM:+0100
TZOFFSETTO:+0200
TZNAME:CEST
DTSTART:20250330T010000
END:DAYLIGHT
BEGIN:STANDARD
TZOFFSETFROM:+0200
TZOFFSETTO:+0100
TZNAME:CET
DTSTART:20251026T010000
END:STANDARD
BEGIN:DAYLIGHT
TZOFFSETFROM:+0100
TZOFFSETTO:+0200
TZNAME:CEST
DTSTART:20260329T010000
END:DAYLIGHT
BEGIN:STANDARD
TZOFFSETFROM:+0200
TZOFFSETTO:+0100
TZNAME:CET
DTSTART:20261025T010000
END:STANDARD
END:VTIMEZONE
BEGIN:VEVENT
DTSTART;VALUE=DATE:20251209
DTEND;VALUE=DATE:20251215
DTSTAMP:20260422T162148
CREATED:20251201T160624Z
LAST-MODIFIED:20251201T160624Z
UID:3883-1765252800-1765684799@trentointernational.com
SUMMARY:Teatro della Meraviglia Ð Science & Theatre Festival
DESCRIPTION:Festival merging theatre with scientific research\, hosted across several evenings.
URL:https://trentointernational.com/event/teatro-della-meraviglia-d-science-theatre-festival/
LOCATION:Le Garage Lab\, Vicolo dalla Piccola\, 8\, Trento\, 38122\, Italy
CATEGORIES:Art & Culture
END:VEVENT
BEGIN:VEVENT
DTSTART;VALUE=DATE:20251211
DTEND;VALUE=DATE:20251213
DTSTAMP:20260422T162148
CREATED:20250929T094802Z
LAST-MODIFIED:20250929T094802Z
UID:3599-1765425600-1765511999@trentointernational.com
SUMMARY:Screen printing workshop monsters
DESCRIPTION:THU\, DECEMBER 11\n* Wild\nSerigraphy\nManual screen printing on paper and fabric \na \n👹 Monstrous Creatures: between old age\, metamorphosis and imagination \nA creative journey with Glow and Belva Studio to traverse the monstrous universe between artistic languages\, crafts and digital tools. \n📅 8 workshops in the center of Trento from October to May + final party in June with exhibitions\, performances\, installations and DJ sets.\nEvery month we will shape our monstrous imaginary building a collective beast made of materials\, stories and visions. \n🖼️ Printing techniques\, digital fabrication and a lot of experimentation: every meeting will be an opportunity to create a unique object and take it home. \n💡 Only a small contribution for materials is required. \n👉 Are you ready to bring your monster creature to life? Reserve your spot on Eventbrite now \n 
URL:https://trentointernational.com/event/screen-printing-workshop-monsters/
CATEGORIES:Art & Culture
END:VEVENT
BEGIN:VEVENT
DTSTART;TZID=Europe/Rome:20251211T180000
DTEND;TZID=Europe/Rome:20251211T193000
DTSTAMP:20260422T162148
CREATED:20251201T160727Z
LAST-MODIFIED:20251201T160727Z
UID:3895-1765476000-1765481400@trentointernational.com
SUMMARY:Presentation of ÒClima\, Cavoli e CappucciÓ + SOS Rosarno
DESCRIPTION:Presentation of a fanzine about food\, soil\, seeds and transformative practices\, with guest Michele Trungadi of SOS Rosarno.
URL:https://trentointernational.com/event/presentation-of-oclima-cavoli-e-cappuccio-sos-rosarno/
CATEGORIES:Education
END:VEVENT
BEGIN:VEVENT
DTSTART;TZID=Europe/Rome:20251211T203000
DTEND;TZID=Europe/Rome:20251211T233000
DTSTAMP:20260422T162148
CREATED:20251129T214908Z
LAST-MODIFIED:20251201T160221Z
UID:3830-1765485000-1765495800@trentointernational.com
SUMMARY:Historical Look at Genocide Ð Understanding Gaza & the West Bank
DESCRIPTION:A historical lecture to better understand genocide\, occupation\, and the present and future of Gaza and the West Bank. Speakers: historian Alessandro Genovese and Pier Francesco Pandolfi de Rinaldis (Pace per Gerusalemme).
URL:https://trentointernational.com/event/historical-look-at-genocide-d-understanding-gaza-the-west-bank/
CATEGORIES:Education
END:VEVENT
END:VCALENDAR