BEGIN:VCALENDAR
VERSION:2.0
PRODID:-//Trento International - ECPv6.15.20//NONSGML v1.0//EN
CALSCALE:GREGORIAN
METHOD:PUBLISH
X-WR-CALNAME:Trento International
X-ORIGINAL-URL:https://trentointernational.com
X-WR-CALDESC:Events for Trento International
REFRESH-INTERVAL;VALUE=DURATION:PT1H
X-Robots-Tag:noindex
X-PUBLISHED-TTL:PT1H
BEGIN:VTIMEZONE
TZID:Europe/Rome
BEGIN:DAYLIGHT
TZOFFSETFROM:+0100
TZOFFSETTO:+0200
TZNAME:CEST
DTSTART:20240331T010000
END:DAYLIGHT
BEGIN:STANDARD
TZOFFSETFROM:+0200
TZOFFSETTO:+0100
TZNAME:CET
DTSTART:20241027T010000
END:STANDARD
BEGIN:DAYLIGHT
TZOFFSETFROM:+0100
TZOFFSETTO:+0200
TZNAME:CEST
DTSTART:20250330T010000
END:DAYLIGHT
BEGIN:STANDARD
TZOFFSETFROM:+0200
TZOFFSETTO:+0100
TZNAME:CET
DTSTART:20251026T010000
END:STANDARD
BEGIN:DAYLIGHT
TZOFFSETFROM:+0100
TZOFFSETTO:+0200
TZNAME:CEST
DTSTART:20260329T010000
END:DAYLIGHT
BEGIN:STANDARD
TZOFFSETFROM:+0200
TZOFFSETTO:+0100
TZNAME:CET
DTSTART:20261025T010000
END:STANDARD
END:VTIMEZONE
BEGIN:VEVENT
DTSTART;VALUE=DATE:20251205
DTEND;VALUE=DATE:20251207
DTSTAMP:20260418T220007
CREATED:20251203T120553Z
LAST-MODIFIED:20251203T120553Z
UID:3930-1764907200-1764993599@trentointernational.com
SUMMARY:Christmas Cookie & Zelten Baking
DESCRIPTION:🌲 Here we are with the Eco Lab calendar for the month of December! 🌲 last workshops of the year 🌲 \n🌲 Tomorrow we’re starting with the monthly co-programming for January: we’re waiting for you if you have suggestions\, ideas to share or just want to learn something specific together.. This is the space to talk about it together! \n🌲 Here are two very sweet appointments: 🌲 Christmas cookies at the Mental Health Center on Wednesday 3rd\, while on Friday 5th afternoon\, we will be making 🌲 cookies and zelten at Pro Loco in Zoreri with the first Eco Lab appointment in the Terragnolo Valley! \n🌲Next week we will talk about fermentation with Ailadi @ailadi \, and we will go to the orchard @comunorto for the monthly appointment. \n🌲 We won’t miss the jersey club\, which is also available twice in December! December 2nd and 16th\, always from 5pm to 7pm.\n🌲 Wednesday 17 Sebastiano Moltrer @luftmensch_forum brings us BIANCO in the evening\, a contemporary circus show.\n🌲 And we close the year with two Eco-Joyful days\, information to follow….. \nWe’re expecting you in large numbers\, beautiful people!
URL:https://trentointernational.com/event/christmas-cookie-zelten-baking/
CATEGORIES:Culture & Food
END:VEVENT
BEGIN:VEVENT
DTSTART;TZID=Europe/Rome:20251205T170000
DTEND;TZID=Europe/Rome:20251205T200000
DTSTAMP:20260418T220007
CREATED:20251129T214908Z
LAST-MODIFIED:20251129T214908Z
UID:3827-1764954000-1764964800@trentointernational.com
SUMMARY:DAL LAVORO AL SOGNO SPORTIVO
DESCRIPTION:The Museo etnografico trentino San Michele invites you to the opening of ÒAttrezzi. Dal lavoro al sogno sportivoÓ\, an exhibition dedicated to the transition from work tools to dreams of sport. Presented by museum president Ezio Amistad.
URL:https://trentointernational.com/event/dal-lavoro-al-sogno-sportivo/
LOCATION:Museo etnografico trentino San Michele\, Via Edmondo Mach\, 2\, San Michele All'adige\, Trentino\, 38010\, Italy
CATEGORIES:Art & Culture
END:VEVENT
BEGIN:VEVENT
DTSTART;TZID=Europe/Rome:20251205T170000
DTEND;TZID=Europe/Rome:20251205T200000
DTSTAMP:20260418T220007
CREATED:20251129T215124Z
LAST-MODIFIED:20251129T215124Z
UID:3841-1764954000-1764964800@trentointernational.com
SUMMARY:ATTREZZI: From Work to Sporting Dreams
DESCRIPTION:Inauguration of the exhibition ‘Attrezzi. From Work to Sporting Dreams’ at the Ethnographic Museum in San Michele.
URL:https://trentointernational.com/event/attrezzi-from-work-to-sporting-dreams/
LOCATION:Museo etnografico trentino San Michele\, Via Edmondo Mach\, 2\, San Michele All'adige\, Trentino\, 38010\, Italy
CATEGORIES:Art & Culture
END:VEVENT
BEGIN:VEVENT
DTSTART;TZID=Europe/Rome:20251205T183000
DTEND;TZID=Europe/Rome:20251205T200000
DTSTAMP:20260418T220007
CREATED:20251201T160237Z
LAST-MODIFIED:20251201T160237Z
UID:3866-1764959400-1764964800@trentointernational.com
SUMMARY:Book Presentation: ÒThe Line of SilenceÓ
DESCRIPTION:A memoir and historical novel presentation exploring memory\, the Years of Lead and family ties.
URL:https://trentointernational.com/event/book-presentation-othe-line-of-silenceo/
CATEGORIES:Art & Culture
END:VEVENT
BEGIN:VEVENT
DTSTART;TZID=Europe/Rome:20251205T190000
DTEND;TZID=Europe/Rome:20251205T220000
DTSTAMP:20260418T220007
CREATED:20251201T160624Z
LAST-MODIFIED:20251201T160624Z
UID:3879-1764961200-1764972000@trentointernational.com
SUMMARY:Ludimus Board Game Night
DESCRIPTION:Weekly board game eveningÑgames provided\, explanations for beginners\, open to all.
URL:https://trentointernational.com/event/ludimus-board-game-night-3/
CATEGORIES:Games
END:VEVENT
BEGIN:VEVENT
DTSTART;TZID=Europe/Rome:20251205T210000
DTEND;TZID=Europe/Rome:20251205T210000
DTSTAMP:20260418T220007
CREATED:20251129T214909Z
LAST-MODIFIED:20251129T214909Z
UID:3831-1764968400-1764968400@trentointernational.com
SUMMARY:Krampus + Raven Techno Night
DESCRIPTION:On the 5th Dezember not only the Krampus will roam the night\, but also the Raven will manifest itself. Deep techno night with local legends at Pippo Stage. Entry: 10Û.
URL:https://trentointernational.com/event/krampus-raven-techno-night/
CATEGORIES:Dance & Party,Music; Dance & Party
END:VEVENT
BEGIN:VEVENT
DTSTART;TZID=Europe/Rome:20251205T213000
DTEND;TZID=Europe/Rome:20251205T213000
DTSTAMP:20260418T220007
CREATED:20251201T160222Z
LAST-MODIFIED:20251201T160222Z
UID:3861-1764970200-1764970200@trentointernational.com
SUMMARY:Marion Moroder + Hyppoch Live
DESCRIPTION:Double live show featuring ethereal folk (Marion Moroder) and alternative grunge (Hyppoch).
URL:https://trentointernational.com/event/marion-moroder-hyppoch-live/
CATEGORIES:Music; Dance & Party
END:VEVENT
BEGIN:VEVENT
DTSTART;TZID=Europe/Rome:20251205T220000
DTEND;TZID=Europe/Rome:20251206T010000
DTSTAMP:20260418T220007
CREATED:20251129T215124Z
LAST-MODIFIED:20251129T215124Z
UID:3842-1764972000-1764982800@trentointernational.com
SUMMARY:RADIOFONTANI Ð Ska\, Rocksteady\, Reggae Vinyl Night
DESCRIPTION:A full vinyl night of ska\, rocksteady and reggae. Sound system session hosted at Simposio Bar.
URL:https://trentointernational.com/event/radiofontani-d-ska-rocksteady-reggae-vinyl-night/
CATEGORIES:Music; Dance & Party
END:VEVENT
END:VCALENDAR