BEGIN:VCALENDAR
VERSION:2.0
PRODID:-//Trento International - ECPv6.15.20//NONSGML v1.0//EN
CALSCALE:GREGORIAN
METHOD:PUBLISH
X-WR-CALNAME:Trento International
X-ORIGINAL-URL:https://trentointernational.com
X-WR-CALDESC:Events for Trento International
REFRESH-INTERVAL;VALUE=DURATION:PT1H
X-Robots-Tag:noindex
X-PUBLISHED-TTL:PT1H
BEGIN:VTIMEZONE
TZID:Europe/Rome
BEGIN:DAYLIGHT
TZOFFSETFROM:+0100
TZOFFSETTO:+0200
TZNAME:CEST
DTSTART:20240331T010000
END:DAYLIGHT
BEGIN:STANDARD
TZOFFSETFROM:+0200
TZOFFSETTO:+0100
TZNAME:CET
DTSTART:20241027T010000
END:STANDARD
BEGIN:DAYLIGHT
TZOFFSETFROM:+0100
TZOFFSETTO:+0200
TZNAME:CEST
DTSTART:20250330T010000
END:DAYLIGHT
BEGIN:STANDARD
TZOFFSETFROM:+0200
TZOFFSETTO:+0100
TZNAME:CET
DTSTART:20251026T010000
END:STANDARD
BEGIN:DAYLIGHT
TZOFFSETFROM:+0100
TZOFFSETTO:+0200
TZNAME:CEST
DTSTART:20260329T010000
END:DAYLIGHT
BEGIN:STANDARD
TZOFFSETFROM:+0200
TZOFFSETTO:+0100
TZNAME:CET
DTSTART:20261025T010000
END:STANDARD
END:VTIMEZONE
BEGIN:VEVENT
DTSTART;TZID=Europe/Rome:20251204T180000
DTEND;TZID=Europe/Rome:20251204T200000
DTSTAMP:20260422T160816
CREATED:20251201T160728Z
LAST-MODIFIED:20251201T160728Z
UID:3898-1764871200-1764878400@trentointernational.com
SUMMARY:Post-Doc: il documentario negli ultimi 20 anni
DESCRIPTION:Riflessione sul documentario negli ultimi 20 anni.
URL:https://trentointernational.com/event/post-doc-il-documentario-negli-ultimi-20-anni/
LOCATION:HarpoLab\, Piazza Garzetti 24\, Trento\, Italy
CATEGORIES:Film
END:VEVENT
BEGIN:VEVENT
DTSTART;TZID=Europe/Rome:20251204T190000
DTEND;TZID=Europe/Rome:20251204T210000
DTSTAMP:20260422T160816
CREATED:20251201T160237Z
LAST-MODIFIED:20251201T160237Z
UID:3865-1764874800-1764882000@trentointernational.com
SUMMARY:Presentation: LÕUniversitario ÒBordersÓ Edition
DESCRIPTION:Magazine launch event + aperitif with discussions on the theme ÒBordersÓ to open the semester.
URL:https://trentointernational.com/event/presentation-louniversitario-oborderso-edition/
CATEGORIES:Education
END:VEVENT
BEGIN:VEVENT
DTSTART;TZID=Europe/Rome:20251204T200000
DTEND;TZID=Europe/Rome:20251204T230000
DTSTAMP:20260422T160816
CREATED:20251201T160253Z
LAST-MODIFIED:20251201T160253Z
UID:3872-1764878400-1764889200@trentointernational.com
SUMMARY:Ludimus Board Game Night
DESCRIPTION:Board game social evening with Ludimus at Smart Lab. All welcome.
URL:https://trentointernational.com/event/ludimus-board-game-night-2/
CATEGORIES:Games
END:VEVENT
END:VCALENDAR